BEGIN:VCALENDAR
VERSION:2.0
PRODID:-//Institut Österreichischer Wirtschaftsprüfer - ECPv6.15.15//NONSGML v1.0//EN
CALSCALE:GREGORIAN
METHOD:PUBLISH
X-WR-CALNAME:Institut Österreichischer Wirtschaftsprüfer
X-ORIGINAL-URL:https://www.iwp.or.at
X-WR-CALDESC:Veranstaltungen für Institut Österreichischer Wirtschaftsprüfer
REFRESH-INTERVAL;VALUE=DURATION:PT1H
X-Robots-Tag:noindex
X-PUBLISHED-TTL:PT1H
BEGIN:VTIMEZONE
TZID:Europe/Berlin
BEGIN:DAYLIGHT
TZOFFSETFROM:+0100
TZOFFSETTO:+0200
TZNAME:CEST
DTSTART:20180325T010000
END:DAYLIGHT
BEGIN:STANDARD
TZOFFSETFROM:+0200
TZOFFSETTO:+0100
TZNAME:CET
DTSTART:20181028T010000
END:STANDARD
BEGIN:DAYLIGHT
TZOFFSETFROM:+0100
TZOFFSETTO:+0200
TZNAME:CEST
DTSTART:20190331T010000
END:DAYLIGHT
BEGIN:STANDARD
TZOFFSETFROM:+0200
TZOFFSETTO:+0100
TZNAME:CET
DTSTART:20191027T010000
END:STANDARD
BEGIN:DAYLIGHT
TZOFFSETFROM:+0100
TZOFFSETTO:+0200
TZNAME:CEST
DTSTART:20200329T010000
END:DAYLIGHT
BEGIN:STANDARD
TZOFFSETFROM:+0200
TZOFFSETTO:+0100
TZNAME:CET
DTSTART:20201025T010000
END:STANDARD
END:VTIMEZONE
BEGIN:VEVENT
DTSTART;TZID=Europe/Berlin:20190919T173000
DTEND;TZID=Europe/Berlin:20190919T200000
DTSTAMP:20260425T031955
CREATED:20190213T183125Z
LAST-MODIFIED:20210918T085007Z
UID:10000267-1568914200-1568923200@www.iwp.or.at
SUMMARY:"WITHOUT QUESTION"  Kinofilm zum Thema Abschlussprüfung
DESCRIPTION:iwp proudly presents – ‚Without Question‘ein Blockbuster des ICAEW\n(Institute of Chartered Accountants in England and Wales) \nDonnerstag\, 19. September 2019 \, 17:30 – 20 h  Village Cinema 1030 Wien\, Landstraßer Hauptstraße 2a  \nDieser Film in englischer Sprache begleitet einen familiengeführten Hotelkonzern beim geplanten IPO sowie Immobilienprojekten und veranschaulicht eindrücklich\, welche immense Bedeutung einer effektiven Kommunikation auf allen Ebenen zukommt. Sich nicht mit schnellen Antworten zu begnügen\, sondern wichtige Sachverhalte und deren Auswirkungen kritisch zu hinterfragen\, sollte für alle an der Finanzberichterstattung Beteiligten ein fester Bestandteil im persönlichen Kompetenzkanon sein. \nMit einem hochkarätig besetzten Podium\, reich an Erfahrung in der Immobilienbranche sowie der Wirtschaftsprüfung\, wird die Notwendigkeit einer kritischen Grundhaltung auf allen Ebenen vom Aufsichtsrat über den Finanzvorstand bis hin zu Beratern und allen voran natürlich den Abschlussprüfern beleuchtet. \nSeien Sie dabei und tauchen Sie ein in ein Kinoerlebnis der besonderen Art! \nTRAILER UND ANMELDUNG\nAnrechenbare Fortbildungsstunden: 2 h \n 
URL:https://www.iwp.or.at/event/young-professionals-day-2019-2/
LOCATION:Village Cinema\, Landstraßer Hauptstraße 2a\, Wien\, 1030
CATEGORIES:Vortrag
END:VEVENT
END:VCALENDAR