BEGIN:VCALENDAR
VERSION:2.0
PRODID:-//Institut Österreichischer Wirtschaftsprüfer - ECPv6.15.15//NONSGML v1.0//EN
CALSCALE:GREGORIAN
METHOD:PUBLISH
X-WR-CALNAME:Institut Österreichischer Wirtschaftsprüfer
X-ORIGINAL-URL:https://www.iwp.or.at
X-WR-CALDESC:Veranstaltungen für Institut Österreichischer Wirtschaftsprüfer
REFRESH-INTERVAL;VALUE=DURATION:PT1H
X-Robots-Tag:noindex
X-PUBLISHED-TTL:PT1H
BEGIN:VTIMEZONE
TZID:Europe/Berlin
BEGIN:DAYLIGHT
TZOFFSETFROM:+0100
TZOFFSETTO:+0200
TZNAME:CEST
DTSTART:20190331T010000
END:DAYLIGHT
BEGIN:STANDARD
TZOFFSETFROM:+0200
TZOFFSETTO:+0100
TZNAME:CET
DTSTART:20191027T010000
END:STANDARD
BEGIN:DAYLIGHT
TZOFFSETFROM:+0100
TZOFFSETTO:+0200
TZNAME:CEST
DTSTART:20200329T010000
END:DAYLIGHT
BEGIN:STANDARD
TZOFFSETFROM:+0200
TZOFFSETTO:+0100
TZNAME:CET
DTSTART:20201025T010000
END:STANDARD
BEGIN:DAYLIGHT
TZOFFSETFROM:+0100
TZOFFSETTO:+0200
TZNAME:CEST
DTSTART:20210328T010000
END:DAYLIGHT
BEGIN:STANDARD
TZOFFSETFROM:+0200
TZOFFSETTO:+0100
TZNAME:CET
DTSTART:20211031T010000
END:STANDARD
BEGIN:DAYLIGHT
TZOFFSETFROM:+0100
TZOFFSETTO:+0200
TZNAME:CEST
DTSTART:20220327T010000
END:DAYLIGHT
BEGIN:STANDARD
TZOFFSETFROM:+0200
TZOFFSETTO:+0100
TZNAME:CET
DTSTART:20221030T010000
END:STANDARD
BEGIN:DAYLIGHT
TZOFFSETFROM:+0100
TZOFFSETTO:+0200
TZNAME:CEST
DTSTART:20230326T010000
END:DAYLIGHT
BEGIN:STANDARD
TZOFFSETFROM:+0200
TZOFFSETTO:+0100
TZNAME:CET
DTSTART:20231029T010000
END:STANDARD
BEGIN:DAYLIGHT
TZOFFSETFROM:+0100
TZOFFSETTO:+0200
TZNAME:CEST
DTSTART:20240331T010000
END:DAYLIGHT
BEGIN:STANDARD
TZOFFSETFROM:+0200
TZOFFSETTO:+0100
TZNAME:CET
DTSTART:20241027T010000
END:STANDARD
BEGIN:DAYLIGHT
TZOFFSETFROM:+0100
TZOFFSETTO:+0200
TZNAME:CEST
DTSTART:20250330T010000
END:DAYLIGHT
BEGIN:STANDARD
TZOFFSETFROM:+0200
TZOFFSETTO:+0100
TZNAME:CET
DTSTART:20251026T010000
END:STANDARD
END:VTIMEZONE
BEGIN:VEVENT
DTSTART;TZID=Europe/Berlin:20240201T090000
DTEND;TZID=Europe/Berlin:20240201T160000
DTSTAMP:20260424T210515
CREATED:20231204T114529Z
LAST-MODIFIED:20231204T114659Z
UID:10000511-1706778000-1706803200@www.iwp.or.at
SUMMARY:Künstliche Intelligenz (KI) für Wirtschaftsprüfer:innen - Von der Theorie zur Praxis
DESCRIPTION:
URL:https://www.iwp.or.at/event/kuenstliche-intelligenz-ki-fuer-wirtschaftsprueferinnen-von-der-theorie-zur-praxis/
LOCATION:Online Webcast
ATTACH;FMTTYPE=image/jpeg:https://www.iwp.or.at/wp-content/uploads/Beitragsbild-KI-fuer-WP.jpg
ORGANIZER;CN="iwp":MAILTO:office(at)iwp.or.at
END:VEVENT
BEGIN:VEVENT
DTSTART;TZID=Europe/Berlin:20220622T150000
DTEND;TZID=Europe/Berlin:20220622T170000
DTSTAMP:20260424T210515
CREATED:20220615T180140Z
LAST-MODIFIED:20220615T180343Z
UID:10000350-1655910000-1655917200@www.iwp.or.at
SUMMARY:Sustainability Assurance under the CSRD: Practical Implications
DESCRIPTION:Interaktives Webinar \nRegistrierung\n  \n 
URL:https://www.iwp.or.at/event/sustainability-assurance-under-the-csrd-practical-implications/
LOCATION:Online Webcast
ATTACH;FMTTYPE=image/jpeg:https://www.iwp.or.at/wp-content/uploads/2021/08/accountancy_europe-520x370-1.jpg
END:VEVENT
BEGIN:VEVENT
DTSTART;TZID=Europe/Berlin:20211122T170000
DTEND;TZID=Europe/Berlin:20211122T180000
DTSTAMP:20260424T210515
CREATED:20211112T122946Z
LAST-MODIFIED:20220530T021710Z
UID:10000439-1637600400-1637604000@www.iwp.or.at
SUMMARY:PMAAT SS 2022 | Infosession
DESCRIPTION:INFORMATIONEN\nANMELDUNG
URL:https://www.iwp.or.at/event/pmaat-ss-2022-infosession/
LOCATION:Online Webcast
ATTACH;FMTTYPE=image/jpeg:https://www.iwp.or.at/wp-content/uploads/2021/09/Professional-Master-csm_filler-events-laptop_500x355.jpg
ORGANIZER;CN="iwp":MAILTO:office(at)iwp.or.at
END:VEVENT
BEGIN:VEVENT
DTSTART;TZID=Europe/Berlin:20211115T153000
DTEND;TZID=Europe/Berlin:20211115T170000
DTSTAMP:20260424T210515
CREATED:20211026T200850Z
LAST-MODIFIED:20220530T021734Z
UID:10000415-1636990200-1636995600@www.iwp.or.at
SUMMARY:ESEF in der Praxis | Teil 2 (Online)
DESCRIPTION:Registrierung\n  \nAm 7. Juli veranstaltete Accountancy Europe das Webinar ESEF in Practice\, in dem Experten Erfahrungen aus dem ersten Jahr der Implementierung in Deutschland austauschten und die laufenden Vorbereitungsarbeiten in Frankreich\, Spanien und den Niederlanden erläuterten. Dieses Mal werden wir weitere Erkenntnisse über die ESEF-Implementierung und -Vorbereitung in anderen Jurisdiktionen hören. Im Mittelpunkt der Diskussion stehen Sicherheitsbedenken. Verpassen Sie nicht diese Gelegenheit \, von den Experten in unserem Netzwerk zu lernen\, wie Sie sich vollständig auf ESEF vorbereiten können. \nReferenten:\nMona Alfredsson \, EY – Schweden\nHilde Blomme \, Deputy CEO\, Accountancy Europe\nPhilip Kudrna \, KPMG – Österreich\nWerner Gedlicka \, KPMG – Österreich\nElina Peill \, Deloitte – Finnland \nModeriert von Jon Rowden\, PwC – UK und Ronald van Langen\, KPMG – Niederlande \nEuropäisches einheitliches elektronisches Format (ESEF) – gesammelte Leitlinien\n 
URL:https://www.iwp.or.at/event/esef-in-der-praxis-teil-2/
LOCATION:Online Webcast
ATTACH;FMTTYPE=image/jpeg:https://www.iwp.or.at/wp-content/uploads/2021/08/accountancy_europe-520x370-1.jpg
END:VEVENT
BEGIN:VEVENT
DTSTART;TZID=Europe/Berlin:20210706T150000
DTEND;TZID=Europe/Berlin:20210706T170000
DTSTAMP:20260424T210515
CREATED:20210228T012158Z
LAST-MODIFIED:20210918T085003Z
UID:10000402-1625583600-1625590800@www.iwp.or.at
SUMMARY:Ausbildung zum Qualitätssicherungsprüfer | Modul III - Berichterstattung
DESCRIPTION:https://www.iwp.or.at/service/aus-und-forbildung/fortbildungsverpflichtung/qualitaetssicherungspruefer/ \n 
URL:https://www.iwp.or.at/event/ausbildung-zum-qualitaetssicherungspruefer-modul-iii-berichterstattung/
LOCATION:Online Webcast
CATEGORIES:Aus- und Fortbildung
ORGANIZER;CN="iwp":MAILTO:office(at)iwp.or.at
END:VEVENT
BEGIN:VEVENT
DTSTART;VALUE=DATE:20210705
DTEND;VALUE=DATE:20210706
DTSTAMP:20260424T210515
CREATED:20210228T012527Z
LAST-MODIFIED:20210918T085003Z
UID:10000403-1625443200-1625529599@www.iwp.or.at
SUMMARY:Ausbildung zum Qualitätssicherungsprüfer | Modul II + Modul III
DESCRIPTION:https://www.iwp.or.at/service/aus-und-forbildung/fortbildungsverpflichtung/qualitaetssicherungspruefer/
URL:https://www.iwp.or.at/event/ausbildung-zum-qualitaetssicherungspruefer-modul-ii-modul-iii/
LOCATION:Online Webcast
CATEGORIES:Aus- und Fortbildung
ORGANIZER;CN="iwp":MAILTO:office(at)iwp.or.at
END:VEVENT
BEGIN:VEVENT
DTSTART;TZID=Europe/Berlin:20200421T170000
DTEND;TZID=Europe/Berlin:20200421T203000
DTSTAMP:20260424T210515
CREATED:20191126T134813Z
LAST-MODIFIED:20211203T165602Z
UID:10000244-1587488400-1587501000@www.iwp.or.at
SUMMARY:68. iwp-Mitgliederversammlung
DESCRIPTION:
URL:https://www.iwp.or.at/event/iwp-mitgliederversammlung/
LOCATION:Online Webcast
CATEGORIES:Mitgliederversammlung
ORGANIZER;CN="iwp":MAILTO:office(at)iwp.or.at
END:VEVENT
END:VCALENDAR