BEGIN:VCALENDAR
VERSION:2.0
PRODID:-//Institut Österreichischer Wirtschaftsprüfer - ECPv6.15.15//NONSGML v1.0//EN
CALSCALE:GREGORIAN
METHOD:PUBLISH
X-WR-CALNAME:Institut Österreichischer Wirtschaftsprüfer
X-ORIGINAL-URL:https://www.iwp.or.at
X-WR-CALDESC:Veranstaltungen für Institut Österreichischer Wirtschaftsprüfer
REFRESH-INTERVAL;VALUE=DURATION:PT1H
X-Robots-Tag:noindex
X-PUBLISHED-TTL:PT1H
BEGIN:VTIMEZONE
TZID:Europe/Berlin
BEGIN:DAYLIGHT
TZOFFSETFROM:+0100
TZOFFSETTO:+0200
TZNAME:CEST
DTSTART:20190331T010000
END:DAYLIGHT
BEGIN:STANDARD
TZOFFSETFROM:+0200
TZOFFSETTO:+0100
TZNAME:CET
DTSTART:20191027T010000
END:STANDARD
BEGIN:DAYLIGHT
TZOFFSETFROM:+0100
TZOFFSETTO:+0200
TZNAME:CEST
DTSTART:20200329T010000
END:DAYLIGHT
BEGIN:STANDARD
TZOFFSETFROM:+0200
TZOFFSETTO:+0100
TZNAME:CET
DTSTART:20201025T010000
END:STANDARD
BEGIN:DAYLIGHT
TZOFFSETFROM:+0100
TZOFFSETTO:+0200
TZNAME:CEST
DTSTART:20210328T010000
END:DAYLIGHT
BEGIN:STANDARD
TZOFFSETFROM:+0200
TZOFFSETTO:+0100
TZNAME:CET
DTSTART:20211031T010000
END:STANDARD
BEGIN:DAYLIGHT
TZOFFSETFROM:+0100
TZOFFSETTO:+0200
TZNAME:CEST
DTSTART:20220327T010000
END:DAYLIGHT
BEGIN:STANDARD
TZOFFSETFROM:+0200
TZOFFSETTO:+0100
TZNAME:CET
DTSTART:20221030T010000
END:STANDARD
BEGIN:DAYLIGHT
TZOFFSETFROM:+0100
TZOFFSETTO:+0200
TZNAME:CEST
DTSTART:20230326T010000
END:DAYLIGHT
BEGIN:STANDARD
TZOFFSETFROM:+0200
TZOFFSETTO:+0100
TZNAME:CET
DTSTART:20231029T010000
END:STANDARD
BEGIN:DAYLIGHT
TZOFFSETFROM:+0100
TZOFFSETTO:+0200
TZNAME:CEST
DTSTART:20240331T010000
END:DAYLIGHT
BEGIN:STANDARD
TZOFFSETFROM:+0200
TZOFFSETTO:+0100
TZNAME:CET
DTSTART:20241027T010000
END:STANDARD
BEGIN:DAYLIGHT
TZOFFSETFROM:+0100
TZOFFSETTO:+0200
TZNAME:CEST
DTSTART:20250330T010000
END:DAYLIGHT
BEGIN:STANDARD
TZOFFSETFROM:+0200
TZOFFSETTO:+0100
TZNAME:CET
DTSTART:20251026T010000
END:STANDARD
BEGIN:DAYLIGHT
TZOFFSETFROM:+0100
TZOFFSETTO:+0200
TZNAME:CEST
DTSTART:20260329T010000
END:DAYLIGHT
BEGIN:STANDARD
TZOFFSETFROM:+0200
TZOFFSETTO:+0100
TZNAME:CET
DTSTART:20261025T010000
END:STANDARD
BEGIN:DAYLIGHT
TZOFFSETFROM:+0100
TZOFFSETTO:+0200
TZNAME:CEST
DTSTART:20270328T010000
END:DAYLIGHT
BEGIN:STANDARD
TZOFFSETFROM:+0200
TZOFFSETTO:+0100
TZNAME:CET
DTSTART:20271031T010000
END:STANDARD
END:VTIMEZONE
BEGIN:VEVENT
DTSTART;TZID=Europe/Berlin:20260421T090000
DTEND;TZID=Europe/Berlin:20260421T100000
DTSTAMP:20260424T191349
CREATED:20251009T111709Z
LAST-MODIFIED:20251009T111749Z
UID:10000529-1776762000-1776765600@www.iwp.or.at
SUMMARY:74. iwp-Mitgliederversammlung
DESCRIPTION:
URL:https://www.iwp.or.at/event/74-iwp-mitgliederversammlung/
LOCATION:Online Veranstaltung
CATEGORIES:Mitgliederversammlung
ORGANIZER;CN="iwp":MAILTO:office(at)iwp.or.at
END:VEVENT
BEGIN:VEVENT
DTSTART;TZID=Europe/Berlin:20260302T160000
DTEND;TZID=Europe/Berlin:20260302T180000
DTSTAMP:20260424T191349
CREATED:20251009T112256Z
LAST-MODIFIED:20251009T115743Z
UID:10000532-1772467200-1772474400@www.iwp.or.at
SUMMARY:27. iwp-Stammtisch Audit
DESCRIPTION:
URL:https://www.iwp.or.at/event/27-iwp-stammtisch-audit/
LOCATION:Online Veranstaltung
CATEGORIES:iwp Stammtisch Audit
ATTACH;FMTTYPE=image/jpeg:https://www.iwp.or.at/wp-content/uploads/Stammtisch-Blogbeitragsbild.jpg
ORGANIZER;CN="iwp":MAILTO:office(at)iwp.or.at
END:VEVENT
BEGIN:VEVENT
DTSTART;TZID=Europe/Berlin:20251201T160000
DTEND;TZID=Europe/Berlin:20251201T180000
DTSTAMP:20260424T191349
CREATED:20250624T100141Z
LAST-MODIFIED:20250624T100141Z
UID:10000527-1764604800-1764612000@www.iwp.or.at
SUMMARY:26. iwp-Stammtisch Audit
DESCRIPTION:
URL:https://www.iwp.or.at/event/26-iwp-stammtisch-audit/
LOCATION:Online Veranstaltung
CATEGORIES:iwp Stammtisch Audit
ATTACH;FMTTYPE=image/jpeg:https://www.iwp.or.at/wp-content/uploads/21.-ISA-Blogbeitragsbild-Website.jpg
ORGANIZER;CN="iwp":MAILTO:office(at)iwp.or.at
END:VEVENT
BEGIN:VEVENT
DTSTART;TZID=Europe/Berlin:20250908T160000
DTEND;TZID=Europe/Berlin:20250908T180000
DTSTAMP:20260424T191349
CREATED:20250624T095432Z
LAST-MODIFIED:20250624T095432Z
UID:10000526-1757347200-1757354400@www.iwp.or.at
SUMMARY:25. iwp-Stammtisch Audit
DESCRIPTION:
URL:https://www.iwp.or.at/event/25-iwp-stammtisch-audit/
LOCATION:Online Veranstaltung
CATEGORIES:iwp Stammtisch Audit
ATTACH;FMTTYPE=image/jpeg:https://www.iwp.or.at/wp-content/uploads/21.-ISA-Blogbeitragsbild-Website.jpg
ORGANIZER;CN="iwp":MAILTO:office(at)iwp.or.at
END:VEVENT
BEGIN:VEVENT
DTSTART;TZID=Europe/Berlin:20250602T160000
DTEND;TZID=Europe/Berlin:20250602T180000
DTSTAMP:20260424T191349
CREATED:20250204T150053Z
LAST-MODIFIED:20250204T150053Z
UID:10000523-1748880000-1748887200@www.iwp.or.at
SUMMARY:24. iwp-Stammtisch Audit
DESCRIPTION:
URL:https://www.iwp.or.at/event/24-iwp-stammtisch-audit/
LOCATION:Online Veranstaltung
CATEGORIES:iwp Stammtisch Audit
ATTACH;FMTTYPE=image/jpeg:https://www.iwp.or.at/wp-content/uploads/21.-ISA-Blogbeitragsbild-Website.jpg
ORGANIZER;CN="iwp":MAILTO:office(at)iwp.or.at
END:VEVENT
BEGIN:VEVENT
DTSTART;TZID=Europe/Berlin:20250429T090000
DTEND;TZID=Europe/Berlin:20250429T100000
DTSTAMP:20260424T191349
CREATED:20241029T103605Z
LAST-MODIFIED:20250127T102926Z
UID:10000519-1745917200-1745920800@www.iwp.or.at
SUMMARY:73. iwp-Mitgliederversammlung
DESCRIPTION:
URL:https://www.iwp.or.at/event/73-iwp-mitgliederversammlung/
LOCATION:Online Veranstaltung
CATEGORIES:Mitgliederversammlung
ORGANIZER;CN="iwp":MAILTO:office(at)iwp.or.at
END:VEVENT
BEGIN:VEVENT
DTSTART;TZID=Europe/Berlin:20250310T160000
DTEND;TZID=Europe/Berlin:20250310T180000
DTSTAMP:20260424T191349
CREATED:20241127T121811Z
LAST-MODIFIED:20250127T101258Z
UID:10000520-1741622400-1741629600@www.iwp.or.at
SUMMARY:23. iwp-Stammtisch Audit
DESCRIPTION:
URL:https://www.iwp.or.at/event/23-iwp-stammtisch-audit/
LOCATION:Online Veranstaltung
CATEGORIES:iwp Stammtisch Audit
ATTACH;FMTTYPE=image/jpeg:https://www.iwp.or.at/wp-content/uploads/21.-ISA-Blogbeitragsbild-Website.jpg
ORGANIZER;CN="iwp":MAILTO:office(at)iwp.or.at
END:VEVENT
BEGIN:VEVENT
DTSTART;TZID=Europe/Berlin:20241202T160000
DTEND;TZID=Europe/Berlin:20241202T180000
DTSTAMP:20260424T191349
CREATED:20231114T122247Z
LAST-MODIFIED:20241127T121349Z
UID:10000509-1733155200-1733162400@www.iwp.or.at
SUMMARY:22. iwp-Stammtisch Audit
DESCRIPTION:
URL:https://www.iwp.or.at/event/22-iwp-stammtisch-audit/
LOCATION:Online Veranstaltung
ATTACH;FMTTYPE=image/jpeg:https://www.iwp.or.at/wp-content/uploads/2022/11/Beitragsbild-Stammtisch-500-x-355.jpg
ORGANIZER;CN="iwp":MAILTO:office(at)iwp.or.at
END:VEVENT
BEGIN:VEVENT
DTSTART;TZID=Europe/Berlin:20240909T160000
DTEND;TZID=Europe/Berlin:20240909T180000
DTSTAMP:20260424T191349
CREATED:20231114T122217Z
LAST-MODIFIED:20231114T122217Z
UID:10000508-1725897600-1725904800@www.iwp.or.at
SUMMARY:21. iwp-Stammtisch Audit
DESCRIPTION:
URL:https://www.iwp.or.at/event/21-iwp-stammtisch-audit/
LOCATION:Online Veranstaltung
CATEGORIES:iwp Stammtisch Audit
ATTACH;FMTTYPE=image/jpeg:https://www.iwp.or.at/wp-content/uploads/2022/11/Beitragsbild-Stammtisch-500-x-355.jpg
ORGANIZER;CN="iwp":MAILTO:office(at)iwp.or.at
END:VEVENT
BEGIN:VEVENT
DTSTART;TZID=Europe/Berlin:20240603T160000
DTEND;TZID=Europe/Berlin:20240603T180000
DTSTAMP:20260424T191349
CREATED:20231114T122116Z
LAST-MODIFIED:20240410T090958Z
UID:10000507-1717430400-1717437600@www.iwp.or.at
SUMMARY:20. iwp-Stammtisch Audit
DESCRIPTION:
URL:https://www.iwp.or.at/event/20-iwp-stammtisch-audit/
LOCATION:Online Veranstaltung
CATEGORIES:iwp Stammtisch Audit
ATTACH;FMTTYPE=image/jpeg:https://www.iwp.or.at/wp-content/uploads/2022/11/Beitragsbild-Stammtisch-500-x-355.jpg
ORGANIZER;CN="iwp":MAILTO:office(at)iwp.or.at
END:VEVENT
BEGIN:VEVENT
DTSTART;TZID=Europe/Berlin:20240423T090000
DTEND;TZID=Europe/Berlin:20240423T100000
DTSTAMP:20260424T191349
CREATED:20231110T121415Z
LAST-MODIFIED:20240308T084601Z
UID:10000497-1713862800-1713866400@www.iwp.or.at
SUMMARY:72. iwp-Mitgliederversammlung
DESCRIPTION:
URL:https://www.iwp.or.at/event/72-iwp-mitgliederversammlung/
LOCATION:Online Veranstaltung
ATTACH;FMTTYPE=image/jpeg:https://www.iwp.or.at/wp-content/uploads/Beitragsbild-MV-2.jpg
ORGANIZER;CN="iwp":MAILTO:office(at)iwp.or.at
END:VEVENT
BEGIN:VEVENT
DTSTART;TZID=Europe/Berlin:20240304T160000
DTEND;TZID=Europe/Berlin:20240304T180000
DTSTAMP:20260424T191349
CREATED:20231114T122031Z
LAST-MODIFIED:20231114T122031Z
UID:10000506-1709568000-1709575200@www.iwp.or.at
SUMMARY:19. iwp-Stammtisch Audit
DESCRIPTION:
URL:https://www.iwp.or.at/event/19-iwp-stammtisch-audit/
LOCATION:Online Veranstaltung
CATEGORIES:iwp Stammtisch Audit
ATTACH;FMTTYPE=image/jpeg:https://www.iwp.or.at/wp-content/uploads/2022/11/Beitragsbild-Stammtisch-500-x-355.jpg
ORGANIZER;CN="iwp":MAILTO:office(at)iwp.or.at
END:VEVENT
BEGIN:VEVENT
DTSTART;TZID=Europe/Berlin:20231204T160000
DTEND;TZID=Europe/Berlin:20231204T180000
DTSTAMP:20260424T191349
CREATED:20221018T100952Z
LAST-MODIFIED:20230224T111349Z
UID:10000448-1701705600-1701712800@www.iwp.or.at
SUMMARY:18. iwp-Stammtisch Audit
DESCRIPTION:Besuchen Sie unsere Nachlese zu den bisherigen Veranstaltungen
URL:https://www.iwp.or.at/event/18-iwp-stammtisch-audit/
LOCATION:Online Veranstaltung
CATEGORIES:iwp Stammtisch Audit
ATTACH;FMTTYPE=image/jpeg:https://www.iwp.or.at/wp-content/uploads/2022/11/Beitragsbild-Stammtisch-500-x-355.jpg
ORGANIZER;CN="iwp":MAILTO:office(at)iwp.or.at
END:VEVENT
BEGIN:VEVENT
DTSTART;TZID=Europe/Berlin:20231114T173000
DTEND;TZID=Europe/Berlin:20231114T193000
DTSTAMP:20260424T191349
CREATED:20221018T101832Z
LAST-MODIFIED:20231103T074700Z
UID:10000449-1699983000-1699990200@www.iwp.or.at
SUMMARY:9. Young Professionals Day
DESCRIPTION:
URL:https://www.iwp.or.at/event/9-young-professionals-day/
LOCATION:Online Veranstaltung
ATTACH;FMTTYPE=image/jpeg:https://www.iwp.or.at/wp-content/uploads/YPD-Beitragsbild-tuerkis.jpg
ORGANIZER;CN="iwp":MAILTO:office(at)iwp.or.at
END:VEVENT
BEGIN:VEVENT
DTSTART;TZID=Europe/Berlin:20230927T160000
DTEND;TZID=Europe/Berlin:20230927T180000
DTSTAMP:20260424T191349
CREATED:20221018T100856Z
LAST-MODIFIED:20230718T135111Z
UID:10000358-1695830400-1695837600@www.iwp.or.at
SUMMARY:17. iwp-Stammtisch Audit
DESCRIPTION:Besuchen Sie unsere Nachlese zu den bisherigen Veranstaltungen
URL:https://www.iwp.or.at/event/17-iwp-stammtisch-audit/
LOCATION:Online Veranstaltung
CATEGORIES:iwp Stammtisch Audit
ATTACH;FMTTYPE=image/jpeg:https://www.iwp.or.at/wp-content/uploads/2022/11/Beitragsbild-Stammtisch-500-x-355.jpg
ORGANIZER;CN="iwp":MAILTO:office(at)iwp.or.at
END:VEVENT
BEGIN:VEVENT
DTSTART;TZID=Europe/Berlin:20230605T160000
DTEND;TZID=Europe/Berlin:20230605T180000
DTSTAMP:20260424T191349
CREATED:20221018T100759Z
LAST-MODIFIED:20230224T111232Z
UID:10000357-1685980800-1685988000@www.iwp.or.at
SUMMARY:16. iwp-Stammtisch Audit
DESCRIPTION:Besuchen Sie unsere Nachlese zu den bisherigen Veranstaltungen
URL:https://www.iwp.or.at/event/16-iwp-stammtisch-audit/
LOCATION:Online Veranstaltung
CATEGORIES:iwp Stammtisch Audit
ATTACH;FMTTYPE=image/jpeg:https://www.iwp.or.at/wp-content/uploads/2022/11/Beitragsbild-Stammtisch-500-x-355.jpg
ORGANIZER;CN="iwp":MAILTO:office(at)iwp.or.at
END:VEVENT
BEGIN:VEVENT
DTSTART;TZID=Europe/Berlin:20230327T160000
DTEND;TZID=Europe/Berlin:20230327T180000
DTSTAMP:20260424T191349
CREATED:20230224T110757Z
LAST-MODIFIED:20230224T111124Z
UID:10000472-1679932800-1679940000@www.iwp.or.at
SUMMARY:15. iwp-Stammtisch Audit
DESCRIPTION:Besuchen Sie unsere Nachlese zu den bisherigen Veranstaltungen
URL:https://www.iwp.or.at/event/15-iwp-stammtisch-audit-2/
LOCATION:Online Veranstaltung
ATTACH;FMTTYPE=image/jpeg:https://www.iwp.or.at/wp-content/uploads/2022/11/Beitragsbild-Stammtisch-500-x-355.jpg
ORGANIZER;CN="iwp":MAILTO:office(at)iwp.or.at
END:VEVENT
BEGIN:VEVENT
DTSTART;TZID=Europe/Berlin:20221205T160000
DTEND;TZID=Europe/Berlin:20221205T180000
DTSTAMP:20260424T191349
CREATED:20211102T091956Z
LAST-MODIFIED:20230104T063424Z
UID:10000438-1670256000-1670263200@www.iwp.or.at
SUMMARY:14. iwp-Stammtisch Audit
DESCRIPTION: 
URL:https://www.iwp.or.at/event/14-iwp-stammtisch-audit/
LOCATION:Online Veranstaltung
CATEGORIES:iwp Stammtisch Audit
ORGANIZER;CN="iwp":MAILTO:office(at)iwp.or.at
END:VEVENT
BEGIN:VEVENT
DTSTART;TZID=Europe/Berlin:20221115T170000
DTEND;TZID=Europe/Berlin:20221115T200000
DTSTAMP:20260424T191349
CREATED:20211201T084639Z
LAST-MODIFIED:20230107T175856Z
UID:10000441-1668531600-1668542400@www.iwp.or.at
SUMMARY:8. Young Professionals Day
DESCRIPTION:
URL:https://www.iwp.or.at/event/8-young-professionals-day/
LOCATION:Online Veranstaltung
ATTACH;FMTTYPE=image/jpeg:https://www.iwp.or.at/wp-content/uploads/2022/09/Beitragsbild-YP-Day-500x355-1.jpg
ORGANIZER;CN="iwp":MAILTO:office(at)iwp.or.at
END:VEVENT
BEGIN:VEVENT
DTSTART;TZID=Europe/Berlin:20220905T160000
DTEND;TZID=Europe/Berlin:20220905T180000
DTSTAMP:20260424T191349
CREATED:20211102T091737Z
LAST-MODIFIED:20220507T141031Z
UID:10000437-1662393600-1662400800@www.iwp.or.at
SUMMARY:13. iwp-Stammtisch Audit
DESCRIPTION:Besuchen Sie unsere Nachlese zu den bisherigen Veranstaltungen
URL:https://www.iwp.or.at/event/13-iwp-stammtisch-audit/
LOCATION:Online Veranstaltung
CATEGORIES:iwp Stammtisch Audit
ATTACH;FMTTYPE=image/jpeg:https://www.iwp.or.at/wp-content/uploads/2021/11/Fortbildung-schwarz-500x355-1.jpg
ORGANIZER;CN="iwp":MAILTO:office(at)iwp.or.at
END:VEVENT
BEGIN:VEVENT
DTSTART;TZID=Europe/Berlin:20220622T140000
DTEND;TZID=Europe/Berlin:20220622T180000
DTSTAMP:20260424T191350
CREATED:20220615T175301Z
LAST-MODIFIED:20220615T180646Z
UID:10000349-1655906400-1655920800@www.iwp.or.at
SUMMARY:EFRAG-Outreach Event zu den Entwürfen der ESRS
DESCRIPTION:ANMELDUNG
URL:https://www.iwp.or.at/event/efrag-outreach-event-zu-den-entwuerfen-der-esrs/
LOCATION:Online Veranstaltung
END:VEVENT
BEGIN:VEVENT
DTSTART;TZID=Europe/Berlin:20220613T160000
DTEND;TZID=Europe/Berlin:20220613T180000
DTSTAMP:20260424T191350
CREATED:20220510T081516Z
LAST-MODIFIED:20220510T130631Z
UID:10000443-1655136000-1655143200@www.iwp.or.at
SUMMARY:12. iwp-Stammtisch Audit
DESCRIPTION:12-iwp-Stammtisch Audit Going Concern Mo.\, 13-06-2022 \n  \nBesuchen Sie unsere Nachlese zu den bisherigen Veranstaltungen
URL:https://www.iwp.or.at/event/12-iwp-stammtisch-audit/
LOCATION:Online Veranstaltung
CATEGORIES:iwp Stammtisch Audit
ATTACH;FMTTYPE=image/jpeg:https://www.iwp.or.at/wp-content/uploads/2021/11/Fortbildung-schwarz-500x355-1.jpg
ORGANIZER;CN="iwp":MAILTO:office(at)iwp.or.at
END:VEVENT
BEGIN:VEVENT
DTSTART;TZID=Europe/Berlin:20220307T160000
DTEND;TZID=Europe/Berlin:20220307T180000
DTSTAMP:20260424T191350
CREATED:20211028T090824Z
LAST-MODIFIED:20230104T063656Z
UID:10000416-1646668800-1646676000@www.iwp.or.at
SUMMARY:11. iwp-Stammtisch Audit
DESCRIPTION:
URL:https://www.iwp.or.at/event/11-iwp-stammtisch-audit/
LOCATION:Online Veranstaltung
CATEGORIES:iwp Stammtisch Audit
ATTACH;FMTTYPE=image/jpeg:https://www.iwp.or.at/wp-content/uploads/2020/02/meeting-1015591_640.jpg
ORGANIZER;CN="iwp":MAILTO:office(at)iwp.or.at
END:VEVENT
BEGIN:VEVENT
DTSTART;TZID=Europe/Berlin:20211206T160000
DTEND;TZID=Europe/Berlin:20211206T180000
DTSTAMP:20260424T191350
CREATED:20201126T134424Z
LAST-MODIFIED:20220517T084315Z
UID:10000388-1638806400-1638813600@www.iwp.or.at
SUMMARY:10. iwp-Stammtisch Audit
DESCRIPTION:„Iwp Stammtisch Audit“ – der neuer Informationskanal für  alle in der Wirtschaftsprüfung Tätigen und Interessierten. Der virtuelle Stammtisch findet im Wege einer Online-Live-Plattform (Webinar) und bietet Ihnen Einblicke in aktuelle Themen im Bereich Abschlussprüfung und Qualitätssicherung.
URL:https://www.iwp.or.at/event/iwp-stammtisch-audit-online-4/
LOCATION:Online Veranstaltung
CATEGORIES:iwp Stammtisch Audit
ATTACH;FMTTYPE=image/jpeg:https://www.iwp.or.at/wp-content/uploads/2020/03/iwp-Stammtisch-Audit-Corona.jpg
ORGANIZER;CN="iwp":MAILTO:office(at)iwp.or.at
END:VEVENT
BEGIN:VEVENT
DTSTART;TZID=Europe/Berlin:20211116T153000
DTEND;TZID=Europe/Berlin:20211116T170000
DTSTAMP:20260424T191350
CREATED:20211114T134957Z
LAST-MODIFIED:20220530T021659Z
UID:10000440-1637076600-1637082000@www.iwp.or.at
SUMMARY:IDW | "Audit goes green"-Nachhaltigkeitsreporting und Prüfung
DESCRIPTION:Das Insitut der Wirtschaftsprüfer in Deutschland (IDW) bietet eine hochkarätig besetzte\, kostenlose Onlineveranstaltung zum Thema \n „audit goes green“ – Nachhaltigkeitsberichterstattung und ihre Prüfung\n\nKOOPERATIONSVERANSTALTUNG MIT MARKUS FERBER MdEP\nANMELDUNG\nAgenda\nDETAILS ZU DEN INHALTEN: \nNachhaltigkeitsberichterstattung von Unternehmen gewinnt rasant an Bedeutung. Dieses Jahr hat die Europäische Kommission einen Richtlinienvorschlag zu diesem Thema veröffentlicht. Zur Vermeidung von Grünfärberei fordert die Kommission eine Prüfungspflicht von Nachhaltigkeitsinformationen. Damit sind die Wirtschaftsprüfer auf den Plan gerufen. Das IDW und Herr Ferber MdEP bringen die Autoren des Richtlinienvorschlags mit Praktikern aus der Wirtschaftsprüfung zur Diskussion zusammen. Moderiert wird die Debatte von Hochschullehrern aus dem Bereich Accounting und Audit. Nach dem Gesetzesvorschlag müssen in der Praxis nun konkrete Vorbereitungen getroffen werden. \n  \n  \n  \n  \n 
URL:https://www.iwp.or.at/event/idw-audit-goes-green-nachhaltigkeitsreporting-und-pruefung/
LOCATION:Online Veranstaltung
END:VEVENT
BEGIN:VEVENT
DTSTART;TZID=Europe/Berlin:20210913T160000
DTEND;TZID=Europe/Berlin:20210913T180000
DTSTAMP:20260424T191350
CREATED:20201126T134336Z
LAST-MODIFIED:20211203T163833Z
UID:10000387-1631548800-1631556000@www.iwp.or.at
SUMMARY:9. iwp-Stammtisch Audit
DESCRIPTION:9. iwp-Stammtisch Audit | Mo. \, 13-09-2021
URL:https://www.iwp.or.at/event/iwp-stammtisch-audit-online-3/
LOCATION:Online Veranstaltung
CATEGORIES:iwp Stammtisch Audit
ATTACH;FMTTYPE=image/gif:https://www.iwp.or.at/wp-content/uploads/2020/03/iwp-Stammtisch-Audit.gif
ORGANIZER;CN="iwp":MAILTO:office(at)iwp.or.at
END:VEVENT
BEGIN:VEVENT
DTSTART;VALUE=DATE:20210628
DTEND;VALUE=DATE:20210629
DTSTAMP:20260424T191350
CREATED:20210228T010639Z
LAST-MODIFIED:20210918T085003Z
UID:10000401-1624838400-1624924799@www.iwp.or.at
SUMMARY:Ausbildung zum Qualitätssicherungsprüfer | Modul I - ISA für QSP
DESCRIPTION:https://www.iwp.or.at/service/aus-und-forbildung/fortbildungsverpflichtung/qualitaetssicherungspruefer/
URL:https://www.iwp.or.at/event/ausbildung-zum-qualitaetssicherungspruefer-modul-i-isa-fuer-qsp/
LOCATION:Online Veranstaltung
CATEGORIES:Aus- und Fortbildung
ORGANIZER;CN="iwp":MAILTO:office(at)iwp.or.at
END:VEVENT
BEGIN:VEVENT
DTSTART;TZID=Europe/Berlin:20210607T160000
DTEND;TZID=Europe/Berlin:20210607T180000
DTSTAMP:20260424T191350
CREATED:20201126T134247Z
LAST-MODIFIED:20211203T164038Z
UID:10000386-1623081600-1623088800@www.iwp.or.at
SUMMARY:8. iwp-Stammtisch Audit
DESCRIPTION:
URL:https://www.iwp.or.at/event/iwp-stammtisch-audit-online-2/
LOCATION:Online Veranstaltung
CATEGORIES:iwp Stammtisch Audit
ORGANIZER;CN="iwp":MAILTO:office(at)iwp.or.at
END:VEVENT
BEGIN:VEVENT
DTSTART;TZID=Europe/Berlin:20210301T160000
DTEND;TZID=Europe/Berlin:20210301T180000
DTSTAMP:20260424T191350
CREATED:20201126T134201Z
LAST-MODIFIED:20211203T163709Z
UID:10000385-1614614400-1614621600@www.iwp.or.at
SUMMARY:7. iwp-Stammtisch Audit
DESCRIPTION:
URL:https://www.iwp.or.at/event/iwp-stammtisch-audit-online/
LOCATION:Online Veranstaltung
CATEGORIES:iwp Stammtisch Audit
ORGANIZER;CN="iwp":MAILTO:office(at)iwp.or.at
END:VEVENT
BEGIN:VEVENT
DTSTART;TZID=Europe/Berlin:20201126T173000
DTEND;TZID=Europe/Berlin:20201126T210000
DTSTAMP:20260424T191350
CREATED:20200130T111355Z
LAST-MODIFIED:20210918T085008Z
UID:10000341-1606411800-1606424400@www.iwp.or.at
SUMMARY:4. Young Professionals Day
DESCRIPTION:
URL:https://www.iwp.or.at/event/young-professionals-day/
LOCATION:Online Veranstaltung
CATEGORIES:Young Professionals
ORGANIZER;CN="iwp":MAILTO:office(at)iwp.or.at
END:VEVENT
END:VCALENDAR