BEGIN:VCALENDAR
VERSION:2.0
PRODID:-//Institut Österreichischer Wirtschaftsprüfer - ECPv6.15.15//NONSGML v1.0//EN
CALSCALE:GREGORIAN
METHOD:PUBLISH
X-WR-CALNAME:Institut Österreichischer Wirtschaftsprüfer
X-ORIGINAL-URL:https://www.iwp.or.at
X-WR-CALDESC:Veranstaltungen für Institut Österreichischer Wirtschaftsprüfer
REFRESH-INTERVAL;VALUE=DURATION:PT1H
X-Robots-Tag:noindex
X-PUBLISHED-TTL:PT1H
BEGIN:VTIMEZONE
TZID:Europe/Berlin
BEGIN:DAYLIGHT
TZOFFSETFROM:+0100
TZOFFSETTO:+0200
TZNAME:CEST
DTSTART:20180325T010000
END:DAYLIGHT
BEGIN:STANDARD
TZOFFSETFROM:+0200
TZOFFSETTO:+0100
TZNAME:CET
DTSTART:20181028T010000
END:STANDARD
BEGIN:DAYLIGHT
TZOFFSETFROM:+0100
TZOFFSETTO:+0200
TZNAME:CEST
DTSTART:20190331T010000
END:DAYLIGHT
BEGIN:STANDARD
TZOFFSETFROM:+0200
TZOFFSETTO:+0100
TZNAME:CET
DTSTART:20191027T010000
END:STANDARD
BEGIN:DAYLIGHT
TZOFFSETFROM:+0100
TZOFFSETTO:+0200
TZNAME:CEST
DTSTART:20200329T010000
END:DAYLIGHT
BEGIN:STANDARD
TZOFFSETFROM:+0200
TZOFFSETTO:+0100
TZNAME:CET
DTSTART:20201025T010000
END:STANDARD
END:VTIMEZONE
BEGIN:VEVENT
DTSTART;TZID=Europe/Berlin:20191120T173000
DTEND;TZID=Europe/Berlin:20191120T193000
DTSTAMP:20260424T205657
CREATED:20191102T140928Z
LAST-MODIFIED:20210918T085007Z
UID:10000303-1574271000-1574278200@www.iwp.or.at
SUMMARY:Diversität im Aufsichtsrat
DESCRIPTION:Aufsichtsrat und Abschlussprüfer – Gemeinsam für eine gute Corporate Covernance.\nDas Thema des Symposiums:  „Diversität im Aufsichtsrat – Qualitätsmerkmal oder Modetrend?“
URL:https://www.iwp.or.at/event/diversitaet-im-aufsichtsrat/
LOCATION:Österreichische Kontrollbank\, Strauchgasse 3\, Wien\, 1010\, Österreich
CATEGORIES:Vortrag
ORGANIZER;CN="iwp":MAILTO:office(at)iwp.or.at
END:VEVENT
BEGIN:VEVENT
DTSTART;TZID=Europe/Berlin:20190613T173000
DTEND;TZID=Europe/Berlin:20190613T203000
DTSTAMP:20260424T205657
CREATED:20190213T180724Z
LAST-MODIFIED:20210918T085007Z
UID:10000265-1560447000-1560457800@www.iwp.or.at
SUMMARY:Unternehmensberichterstattung "Quo Vadis"
DESCRIPTION:Die Jahresabschlüsse werden immer länger und sind oft nur mehr für Experten zu verstehen\, lautet eine regelmäßige Kritik. Wie kann die Unternehmensberichterstattung weiterhin ein zentrales Element der Rechnungs- und Rechenschaftslegung und damit auch der Corporate Governance bleiben? In welche Richtung wird sie sich entwickeln? Die „Berufsgruppe Wirtschaftsprüfer“ der Kammer der Steuerberater und Wirtschaftsprüfer und das Institut Österreichischer Wirtschaftsprüfer laden Sie im Rahmen der Veranstaltungsreihe „AUFSICHTSRAT UND ABSCHLUSSPRÜFER – GEMEINSAM FÜR EINE GUTE CORPORATE GOVERNANCE“ herzlich ein\, mehr zu diesem Thema zu erfahren und darüber zu diskutieren. \nWEITERE INFORMATIONEN UND ANMELDUNG \n  \n 
URL:https://www.iwp.or.at/event/abendveranstaltung-boerse/
LOCATION:Österreichische Kontrollbank\, Strauchgasse 3\, Wien\, 1010\, Österreich
CATEGORIES:Vortrag
ORGANIZER;CN="iwp":MAILTO:office(at)iwp.or.at
END:VEVENT
END:VCALENDAR