BEGIN:VCALENDAR
VERSION:2.0
PRODID:-//Institut Österreichischer Wirtschaftsprüfer - ECPv6.15.15//NONSGML v1.0//EN
CALSCALE:GREGORIAN
METHOD:PUBLISH
X-WR-CALNAME:Institut Österreichischer Wirtschaftsprüfer
X-ORIGINAL-URL:https://www.iwp.or.at
X-WR-CALDESC:Veranstaltungen für Institut Österreichischer Wirtschaftsprüfer
REFRESH-INTERVAL;VALUE=DURATION:PT1H
X-Robots-Tag:noindex
X-PUBLISHED-TTL:PT1H
BEGIN:VTIMEZONE
TZID:Europe/Berlin
BEGIN:DAYLIGHT
TZOFFSETFROM:+0100
TZOFFSETTO:+0200
TZNAME:CEST
DTSTART:20200329T010000
END:DAYLIGHT
BEGIN:STANDARD
TZOFFSETFROM:+0200
TZOFFSETTO:+0100
TZNAME:CET
DTSTART:20201025T010000
END:STANDARD
BEGIN:DAYLIGHT
TZOFFSETFROM:+0100
TZOFFSETTO:+0200
TZNAME:CEST
DTSTART:20210328T010000
END:DAYLIGHT
BEGIN:STANDARD
TZOFFSETFROM:+0200
TZOFFSETTO:+0100
TZNAME:CET
DTSTART:20211031T010000
END:STANDARD
BEGIN:DAYLIGHT
TZOFFSETFROM:+0100
TZOFFSETTO:+0200
TZNAME:CEST
DTSTART:20220327T010000
END:DAYLIGHT
BEGIN:STANDARD
TZOFFSETFROM:+0200
TZOFFSETTO:+0100
TZNAME:CET
DTSTART:20221030T010000
END:STANDARD
BEGIN:DAYLIGHT
TZOFFSETFROM:+0100
TZOFFSETTO:+0200
TZNAME:CEST
DTSTART:20230326T010000
END:DAYLIGHT
BEGIN:STANDARD
TZOFFSETFROM:+0200
TZOFFSETTO:+0100
TZNAME:CET
DTSTART:20231029T010000
END:STANDARD
END:VTIMEZONE
BEGIN:VEVENT
DTSTART;TZID=Europe/Berlin:20220622T170000
DTEND;TZID=Europe/Berlin:20220622T220000
DTSTAMP:20260425T002947
CREATED:20220511T070119Z
LAST-MODIFIED:20220615T180449Z
UID:10000444-1655917200-1655935200@www.iwp.or.at
SUMMARY:iwp-Abendveranstaltung "Nachhaltigkeit als Teil der Unternehmensstrategie-was bringt die Zukunft?
DESCRIPTION:
URL:https://www.iwp.or.at/event/iwp-abendveranstaltung-nachhaltigkeit-als-teil-der-unternehmensstrategie-was-bringt-die-zukunft/
LOCATION:Novotel Wien Hauptbahnhof\, Canettistraße 6\, Wien\, 1100\, Österreich
ATTACH;FMTTYPE=image/jpeg:https://www.iwp.or.at/wp-content/uploads/2022/05/Abendveranstaltung-500-x-355.jpg
ORGANIZER;CN="iwp":MAILTO:office(at)iwp.or.at
END:VEVENT
BEGIN:VEVENT
DTSTART;TZID=Europe/Berlin:20220530T173000
DTEND;TZID=Europe/Berlin:20220530T200000
DTSTAMP:20260425T002947
CREATED:20220511T210026Z
LAST-MODIFIED:20220511T220737Z
UID:10000445-1653931800-1653940800@www.iwp.or.at
SUMMARY:Neues Wirtschaften nach (?) der Krise - Was braucht es jetzt?
DESCRIPTION:Programm und Anmeldung
URL:https://www.iwp.or.at/event/neues-wirtschaften-nach-der-krise-was-braucht-es-jetzt/
LOCATION:Novotel Wien Hauptbahnhof\, Canettistraße 6\, Wien\, 1100\, Österreich
ATTACH;FMTTYPE=image/jpeg:https://www.iwp.or.at/wp-content/uploads/2022/05/Konferenz-Mai2022-500x355-1.jpg
ORGANIZER;CN="KSW":MAILTO:office(at)ksw.or.at
END:VEVENT
BEGIN:VEVENT
DTSTART;TZID=Europe/Berlin:20211018T173000
DTEND;TZID=Europe/Berlin:20211018T213000
DTSTAMP:20260425T002947
CREATED:20210910T122149Z
LAST-MODIFIED:20210918T085006Z
UID:10000410-1634578200-1634592600@www.iwp.or.at
SUMMARY:Green Deal - Green Finance - Green Reporting
DESCRIPTION:Green Deal – Green Finance – Green Reporting\n\n\n\n\nMit dem „Green Deal“ hat die Europäische Union die Weichen in Richtung Klimaneutralität bis 2050 gestellt. Dabei sind sowohl Anreizsysteme zur klimaneutralen Kapitalallokation („Green Finance“) als auch eine belastbare Berichterstattung über den Fortschritt auf Unternehmensebene („Green Reporting“) wesentliche Aspekte\, die sowohl unseren Berufsstand als auch Aufsichtsräte vor neue Herausforderungen\, aber auch Chancen stellen. Im Rahmen einer Podiumsdiskussion werden die aktuellen Entwicklungen aus Sicht der Forschung und Praxis beleuchtet und präsentiert. \nAnmeldung
URL:https://www.iwp.or.at/event/green-deal-green-finance-green-reporting/
LOCATION:Novotel Wien Hauptbahnhof\, Canettistraße 6\, Wien\, 1100\, Österreich
CATEGORIES:Konferenz
ATTACH;FMTTYPE=image/jpeg:https://www.iwp.or.at/wp-content/uploads/2021/09/Header-gross.jpg
ORGANIZER;CN="iwp":MAILTO:office(at)iwp.or.at
END:VEVENT
END:VCALENDAR