BEGIN:VCALENDAR
VERSION:2.0
PRODID:-//Institut Österreichischer Wirtschaftsprüfer - ECPv6.15.15//NONSGML v1.0//EN
CALSCALE:GREGORIAN
METHOD:PUBLISH
X-WR-CALNAME:Institut Österreichischer Wirtschaftsprüfer
X-ORIGINAL-URL:https://www.iwp.or.at
X-WR-CALDESC:Veranstaltungen für Institut Österreichischer Wirtschaftsprüfer
REFRESH-INTERVAL;VALUE=DURATION:PT1H
X-Robots-Tag:noindex
X-PUBLISHED-TTL:PT1H
BEGIN:VTIMEZONE
TZID:Europe/Berlin
BEGIN:DAYLIGHT
TZOFFSETFROM:+0100
TZOFFSETTO:+0200
TZNAME:CEST
DTSTART:20180325T010000
END:DAYLIGHT
BEGIN:STANDARD
TZOFFSETFROM:+0200
TZOFFSETTO:+0100
TZNAME:CET
DTSTART:20181028T010000
END:STANDARD
BEGIN:DAYLIGHT
TZOFFSETFROM:+0100
TZOFFSETTO:+0200
TZNAME:CEST
DTSTART:20190331T010000
END:DAYLIGHT
BEGIN:STANDARD
TZOFFSETFROM:+0200
TZOFFSETTO:+0100
TZNAME:CET
DTSTART:20191027T010000
END:STANDARD
BEGIN:DAYLIGHT
TZOFFSETFROM:+0100
TZOFFSETTO:+0200
TZNAME:CEST
DTSTART:20200329T010000
END:DAYLIGHT
BEGIN:STANDARD
TZOFFSETFROM:+0200
TZOFFSETTO:+0100
TZNAME:CET
DTSTART:20201025T010000
END:STANDARD
BEGIN:DAYLIGHT
TZOFFSETFROM:+0100
TZOFFSETTO:+0200
TZNAME:CEST
DTSTART:20210328T010000
END:DAYLIGHT
BEGIN:STANDARD
TZOFFSETFROM:+0200
TZOFFSETTO:+0100
TZNAME:CET
DTSTART:20211031T010000
END:STANDARD
END:VTIMEZONE
BEGIN:VEVENT
DTSTART;TZID=Europe/Berlin:20201020T160000
DTEND;TZID=Europe/Berlin:20201020T190000
DTSTAMP:20260425T041043
CREATED:20191126T135348Z
LAST-MODIFIED:20210918T085007Z
UID:10000250-1603209600-1603220400@www.iwp.or.at
SUMMARY:Vorstandssitzung
DESCRIPTION:153. Vorstandssitzung
URL:https://www.iwp.or.at/event/vorstandssitzung-7/
LOCATION:Industriellenvereinigung\, Schwarzenbergplatz 4\, Wien\, 1030
CATEGORIES:Vorstand
ORGANIZER;CN="iwp":MAILTO:office(at)iwp.or.at
END:VEVENT
BEGIN:VEVENT
DTSTART;TZID=Europe/Berlin:20200916T150000
DTEND;TZID=Europe/Berlin:20200916T190000
DTSTAMP:20260425T041043
CREATED:20191126T135207Z
LAST-MODIFIED:20210918T085007Z
UID:10000248-1600268400-1600282800@www.iwp.or.at
SUMMARY:Redaktions- Vorstandssitzung
DESCRIPTION:15:00 h Redaktionssitzung | 16:00 h 152. Vorstandssitzung
URL:https://www.iwp.or.at/event/redaktions-vorstandssitzung-2/
LOCATION:Industriellenvereinigung\, Schwarzenbergplatz 4\, Wien\, 1030
CATEGORIES:Vorstand
ORGANIZER;CN="iwp":MAILTO:office(at)iwp.or.at
END:VEVENT
BEGIN:VEVENT
DTSTART;TZID=Europe/Berlin:20200616T150000
DTEND;TZID=Europe/Berlin:20200616T190000
DTSTAMP:20260425T041043
CREATED:20191126T135118Z
LAST-MODIFIED:20210918T085007Z
UID:10000246-1592319600-1592334000@www.iwp.or.at
SUMMARY:Redaktions- Vorstandssitzung
DESCRIPTION:15:00 h Redaktionssitzung | 16:00 h 151. Vorstandssitzung
URL:https://www.iwp.or.at/event/redaktions-vorstandssitzung/
LOCATION:Industriellenvereinigung\, Schwarzenbergplatz 4\, Wien\, 1030
CATEGORIES:Vorstand
ORGANIZER;CN="iwp":MAILTO:office(at)iwp.or.at
END:VEVENT
BEGIN:VEVENT
DTSTART;TZID=Europe/Berlin:20200218T160000
DTEND;TZID=Europe/Berlin:20200218T190000
DTSTAMP:20260425T041043
CREATED:20191126T134122Z
LAST-MODIFIED:20210918T085007Z
UID:10000311-1582041600-1582052400@www.iwp.or.at
SUMMARY:Vorstandssitzung
DESCRIPTION:149. Vorstandssitzung
URL:https://www.iwp.or.at/event/vorstandssitzung-5/
LOCATION:Industriellenvereinigung\, Schwarzenbergplatz 4\, Wien\, 1030
CATEGORIES:Vorstand
ORGANIZER;CN="iwp":MAILTO:office(at)iwp.or.at
END:VEVENT
BEGIN:VEVENT
DTSTART;TZID=Europe/Berlin:20200114T160000
DTEND;TZID=Europe/Berlin:20200114T190000
DTSTAMP:20260425T041043
CREATED:20191126T133450Z
LAST-MODIFIED:20210918T085006Z
UID:10000310-1579017600-1579028400@www.iwp.or.at
SUMMARY:Vorstandssitzung
DESCRIPTION:148. Vorstandssitzung
URL:https://www.iwp.or.at/event/vorstandsssitzung/
LOCATION:Industriellenvereinigung\, Schwarzenbergplatz 4\, Wien\, 1030
CATEGORIES:Vorstand
ORGANIZER;CN="iwp":MAILTO:office(at)iwp.or.at
END:VEVENT
BEGIN:VEVENT
DTSTART;TZID=Europe/Berlin:20190612T190000
DTEND;TZID=Europe/Berlin:20190612T210000
DTSTAMP:20260425T041043
CREATED:20190213T180858Z
LAST-MODIFIED:20230104T064719Z
UID:10000266-1560366000-1560373200@www.iwp.or.at
SUMMARY:Abendveranstaltung Qualitätssicherung
DESCRIPTION:„Neue Arbeitshilfen zur Durchführung von Qualitätssicherungsprüfungen“ \nReferenten: Mag. Gisela Nagy | Mag. Christian Pajer \n 
URL:https://www.iwp.or.at/event/abendveranstaltung-qualitaetssicherung/
LOCATION:Industriellenvereinigung\, Schwarzenbergplatz 4\, Wien\, 1030
CATEGORIES:Vortrag
ORGANIZER;CN="iwp":MAILTO:office(at)iwp.or.at
END:VEVENT
BEGIN:VEVENT
DTSTART;TZID=Europe/Berlin:20190425T181500
DTEND;TZID=Europe/Berlin:20190425T210000
DTSTAMP:20260425T041043
CREATED:20190213T152215Z
LAST-MODIFIED:20230104T065222Z
UID:10000236-1556216100-1556226000@www.iwp.or.at
SUMMARY:Vortrag
DESCRIPTION:Im Anschluss an die 67. Mitgliederversammlung\n\nMMag. Dr. Niklas Schmidt \n\nBig Data\, Blockchain & Co –\nneue Technologien verändern die Abschlussprüfung\n 
URL:https://www.iwp.or.at/event/67-mitgliederversammlung/
LOCATION:Industriellenvereinigung\, Schwarzenbergplatz 4\, Wien\, 1030
CATEGORIES:Vortrag
END:VEVENT
BEGIN:VEVENT
DTSTART;TZID=Europe/Berlin:20190328T150000
DTEND;TZID=Europe/Berlin:20190328T180000
DTSTAMP:20260425T041043
CREATED:20190218T141742Z
LAST-MODIFIED:20210918T085006Z
UID:10000269-1553785200-1553796000@www.iwp.or.at
SUMMARY:Sondersitzung Fachtagung 2019
DESCRIPTION:
URL:https://www.iwp.or.at/event/sondersitzung-fachtagung-2019/
LOCATION:Industriellenvereinigung\, Schwarzenbergplatz 4\, Wien\, 1030
CATEGORIES:Vorstand
ATTACH;FMTTYPE=image/jpeg:https://www.iwp.or.at/wp-content/uploads/2019/01/Kerschbaumer-1-1.jpg
ORGANIZER;CN="iwp":MAILTO:office(at)iwp.or.at
END:VEVENT
BEGIN:VEVENT
DTSTART;TZID=Europe/Berlin:20190219T103000
DTEND;TZID=Europe/Berlin:20190219T133000
DTSTAMP:20260425T041043
CREATED:20190213T174725Z
LAST-MODIFIED:20210918T085003Z
UID:10000257-1550572200-1550583000@www.iwp.or.at
SUMMARY:AG Qualitätssicherung
DESCRIPTION:
URL:https://www.iwp.or.at/event/ag-qualitaetssicherung/
LOCATION:Industriellenvereinigung\, Schwarzenbergplatz 4\, Wien\, 1030
CATEGORIES:Arbeitsgruppe
END:VEVENT
BEGIN:VEVENT
DTSTART;TZID=Europe/Berlin:20190219T083000
DTEND;TZID=Europe/Berlin:20190219T103000
DTSTAMP:20260425T041043
CREATED:20190213T174624Z
LAST-MODIFIED:20210918T085003Z
UID:10000255-1550565000-1550572200@www.iwp.or.at
SUMMARY:AG Digital Audit
DESCRIPTION:
URL:https://www.iwp.or.at/event/ag-digital-audit/
LOCATION:Industriellenvereinigung\, Schwarzenbergplatz 4\, Wien\, 1030
CATEGORIES:Arbeitsgruppe
END:VEVENT
BEGIN:VEVENT
DTSTART;TZID=Europe/Berlin:20190212T190000
DTEND;TZID=Europe/Berlin:20190212T210000
DTSTAMP:20260425T041043
CREATED:20190213T150939Z
LAST-MODIFIED:20210918T085007Z
UID:10000235-1549998000-1550005200@www.iwp.or.at
SUMMARY:Vortrag | Auswahl Abschlussprüfer
DESCRIPTION:Vortrag und Diskussion \nMag. Marterbauer\, Dr. Völkl \nModeration: Mag. Helmut Kerschbaumer
URL:https://www.iwp.or.at/event/auswahl-abschlusspruefer/
LOCATION:Industriellenvereinigung\, Schwarzenbergplatz 4\, Wien\, 1030
CATEGORIES:Vortrag
END:VEVENT
BEGIN:VEVENT
DTSTART;TZID=Europe/Berlin:20190212T160000
DTEND;TZID=Europe/Berlin:20190212T183000
DTSTAMP:20260425T041043
CREATED:20190213T154802Z
LAST-MODIFIED:20210918T085006Z
UID:10000239-1549987200-1549996200@www.iwp.or.at
SUMMARY:Vorstandssitzung
DESCRIPTION:142. Vorstandssitzung
URL:https://www.iwp.or.at/event/vorstandssitzung-2/
LOCATION:Industriellenvereinigung\, Schwarzenbergplatz 4\, Wien\, 1030
CATEGORIES:Vorstand
END:VEVENT
BEGIN:VEVENT
DTSTART;TZID=Europe/Berlin:20190108T160000
DTEND;TZID=Europe/Berlin:20190108T190000
DTSTAMP:20260425T041043
CREATED:20190213T171946Z
LAST-MODIFIED:20210918T085006Z
UID:10000241-1546963200-1546974000@www.iwp.or.at
SUMMARY:Vorstandssitzung
DESCRIPTION:141. Vorstandssitzung
URL:https://www.iwp.or.at/event/141-vorstandssitzung/
LOCATION:Industriellenvereinigung\, Schwarzenbergplatz 4\, Wien\, 1030
CATEGORIES:Vorstand
END:VEVENT
END:VCALENDAR