BEGIN:VCALENDAR
VERSION:2.0
PRODID:-//Institut Österreichischer Wirtschaftsprüfer - ECPv6.15.15//NONSGML v1.0//EN
CALSCALE:GREGORIAN
METHOD:PUBLISH
X-WR-CALNAME:Institut Österreichischer Wirtschaftsprüfer
X-ORIGINAL-URL:https://www.iwp.or.at
X-WR-CALDESC:Veranstaltungen für Institut Österreichischer Wirtschaftsprüfer
REFRESH-INTERVAL;VALUE=DURATION:PT1H
X-Robots-Tag:noindex
X-PUBLISHED-TTL:PT1H
BEGIN:VTIMEZONE
TZID:Europe/Berlin
BEGIN:DAYLIGHT
TZOFFSETFROM:+0100
TZOFFSETTO:+0200
TZNAME:CEST
DTSTART:20190331T010000
END:DAYLIGHT
BEGIN:STANDARD
TZOFFSETFROM:+0200
TZOFFSETTO:+0100
TZNAME:CET
DTSTART:20191027T010000
END:STANDARD
BEGIN:DAYLIGHT
TZOFFSETFROM:+0100
TZOFFSETTO:+0200
TZNAME:CEST
DTSTART:20200329T010000
END:DAYLIGHT
BEGIN:STANDARD
TZOFFSETFROM:+0200
TZOFFSETTO:+0100
TZNAME:CET
DTSTART:20201025T010000
END:STANDARD
BEGIN:DAYLIGHT
TZOFFSETFROM:+0100
TZOFFSETTO:+0200
TZNAME:CEST
DTSTART:20210328T010000
END:DAYLIGHT
BEGIN:STANDARD
TZOFFSETFROM:+0200
TZOFFSETTO:+0100
TZNAME:CET
DTSTART:20211031T010000
END:STANDARD
BEGIN:DAYLIGHT
TZOFFSETFROM:+0100
TZOFFSETTO:+0200
TZNAME:CEST
DTSTART:20220327T010000
END:DAYLIGHT
BEGIN:STANDARD
TZOFFSETFROM:+0200
TZOFFSETTO:+0100
TZNAME:CET
DTSTART:20221030T010000
END:STANDARD
BEGIN:DAYLIGHT
TZOFFSETFROM:+0100
TZOFFSETTO:+0200
TZNAME:CEST
DTSTART:20230326T010000
END:DAYLIGHT
BEGIN:STANDARD
TZOFFSETFROM:+0200
TZOFFSETTO:+0100
TZNAME:CET
DTSTART:20231029T010000
END:STANDARD
BEGIN:DAYLIGHT
TZOFFSETFROM:+0100
TZOFFSETTO:+0200
TZNAME:CEST
DTSTART:20240331T010000
END:DAYLIGHT
BEGIN:STANDARD
TZOFFSETFROM:+0200
TZOFFSETTO:+0100
TZNAME:CET
DTSTART:20241027T010000
END:STANDARD
END:VTIMEZONE
BEGIN:VEVENT
DTSTART;TZID=Europe/Berlin:20231128T160000
DTEND;TZID=Europe/Berlin:20231128T190000
DTSTAMP:20260424T223941
CREATED:20221018T104556Z
LAST-MODIFIED:20221018T104556Z
UID:10000364-1701187200-1701198000@www.iwp.or.at
SUMMARY:Vorstandssitzung
DESCRIPTION:
URL:https://www.iwp.or.at/event/vorstandssitzung-25/
LOCATION:Industriellenvereinigung\, Schwarzenbergplatz 4\, Wien\, 1030
ORGANIZER;CN="iwp":MAILTO:office(at)iwp.or.at
END:VEVENT
BEGIN:VEVENT
DTSTART;TZID=Europe/Berlin:20231003T160000
DTEND;TZID=Europe/Berlin:20231003T190000
DTSTAMP:20260424T223941
CREATED:20221018T104518Z
LAST-MODIFIED:20221018T104518Z
UID:10000363-1696348800-1696359600@www.iwp.or.at
SUMMARY:Vorstandssitzung
DESCRIPTION:
URL:https://www.iwp.or.at/event/vorstandssitzung-24/
LOCATION:Industriellenvereinigung\, Schwarzenbergplatz 4\, Wien\, 1030
ORGANIZER;CN="iwp":MAILTO:office(at)iwp.or.at
END:VEVENT
BEGIN:VEVENT
DTSTART;TZID=Europe/Berlin:20230905T160000
DTEND;TZID=Europe/Berlin:20230905T190000
DTSTAMP:20260424T223941
CREATED:20221018T104434Z
LAST-MODIFIED:20221018T104434Z
UID:10000362-1693929600-1693940400@www.iwp.or.at
SUMMARY:Vorstandssitzung
DESCRIPTION:
URL:https://www.iwp.or.at/event/vorstandssitzung-23/
LOCATION:Industriellenvereinigung\, Schwarzenbergplatz 4\, Wien\, 1030
ORGANIZER;CN="iwp":MAILTO:office(at)iwp.or.at
END:VEVENT
BEGIN:VEVENT
DTSTART;TZID=Europe/Berlin:20230905T150000
DTEND;TZID=Europe/Berlin:20230905T160000
DTSTAMP:20260424T223941
CREATED:20221018T103118Z
LAST-MODIFIED:20221018T103118Z
UID:10000453-1693926000-1693929600@www.iwp.or.at
SUMMARY:Redaktionssitzung
DESCRIPTION:
URL:https://www.iwp.or.at/event/redaktionssitzung-11/
LOCATION:Industriellenvereinigung\, Schwarzenbergplatz 4\, Wien\, 1030
ORGANIZER;CN="iwp":MAILTO:office(at)iwp.or.at
END:VEVENT
BEGIN:VEVENT
DTSTART;TZID=Europe/Berlin:20230620T150000
DTEND;TZID=Europe/Berlin:20230620T200000
DTSTAMP:20260424T223941
CREATED:20221018T104022Z
LAST-MODIFIED:20230627T065433Z
UID:10000456-1687273200-1687291200@www.iwp.or.at
SUMMARY:Vorstandssitzung/Strategiesitzung 2
DESCRIPTION:
URL:https://www.iwp.or.at/event/strategiesitzung-vorstandssitzung-2-2/
LOCATION:Industriellenvereinigung\, Schwarzenbergplatz 4\, Wien\, 1030
ORGANIZER;CN="iwp":MAILTO:office(at)iwp.or.at
END:VEVENT
BEGIN:VEVENT
DTSTART;TZID=Europe/Berlin:20230517T160000
DTEND;TZID=Europe/Berlin:20230517T190000
DTSTAMP:20260424T223941
CREATED:20221018T104339Z
LAST-MODIFIED:20230510T062332Z
UID:10000361-1684339200-1684350000@www.iwp.or.at
SUMMARY:Vorstandssitzung
DESCRIPTION:
URL:https://www.iwp.or.at/event/vorstandssitzung-22/
LOCATION:Industriellenvereinigung\, Schwarzenbergplatz 4\, Wien\, 1030
ORGANIZER;CN="iwp":MAILTO:office(at)iwp.or.at
END:VEVENT
BEGIN:VEVENT
DTSTART;TZID=Europe/Berlin:20230517T150000
DTEND;TZID=Europe/Berlin:20230517T160000
DTSTAMP:20260424T223941
CREATED:20221018T103040Z
LAST-MODIFIED:20230510T062150Z
UID:10000452-1684335600-1684339200@www.iwp.or.at
SUMMARY:Redaktionssitzung
DESCRIPTION:
URL:https://www.iwp.or.at/event/redaktionssitzung-10/
LOCATION:Industriellenvereinigung\, Schwarzenbergplatz 4\, Wien\, 1030
ORGANIZER;CN="iwp":MAILTO:office(at)iwp.or.at
END:VEVENT
BEGIN:VEVENT
DTSTART;TZID=Europe/Berlin:20230502T150000
DTEND;TZID=Europe/Berlin:20230502T200000
DTSTAMP:20260424T223941
CREATED:20221018T103848Z
LAST-MODIFIED:20230627T065649Z
UID:10000455-1683039600-1683057600@www.iwp.or.at
SUMMARY:Vorstandssitzung/Strategiesitzung 1
DESCRIPTION:
URL:https://www.iwp.or.at/event/strategiesitzung-vorstandssitzung-1-2/
LOCATION:Industriellenvereinigung\, Schwarzenbergplatz 4\, Wien\, 1030
ORGANIZER;CN="iwp":MAILTO:office(at)iwp.or.at
END:VEVENT
BEGIN:VEVENT
DTSTART;TZID=Europe/Berlin:20230328T150000
DTEND;TZID=Europe/Berlin:20230328T180000
DTSTAMP:20260424T223941
CREATED:20221018T103320Z
LAST-MODIFIED:20221018T103320Z
UID:10000454-1680015600-1680026400@www.iwp.or.at
SUMMARY:Sondersitzung Fachtagung
DESCRIPTION:
URL:https://www.iwp.or.at/event/sondersitzung-fachtagung-3/
LOCATION:Industriellenvereinigung\, Schwarzenbergplatz 4\, Wien\, 1030
ORGANIZER;CN="iwp":MAILTO:office(at)iwp.or.at
END:VEVENT
BEGIN:VEVENT
DTSTART;TZID=Europe/Berlin:20230314T160000
DTEND;TZID=Europe/Berlin:20230314T190000
DTSTAMP:20260424T223941
CREATED:20221018T104251Z
LAST-MODIFIED:20221018T104251Z
UID:10000360-1678809600-1678820400@www.iwp.or.at
SUMMARY:Vorstandssitzung
DESCRIPTION:
URL:https://www.iwp.or.at/event/vorstandssitzung-21/
LOCATION:Industriellenvereinigung\, Schwarzenbergplatz 4\, Wien\, 1030
ORGANIZER;CN="iwp":MAILTO:office(at)iwp.or.at
END:VEVENT
BEGIN:VEVENT
DTSTART;TZID=Europe/Berlin:20230314T150000
DTEND;TZID=Europe/Berlin:20230314T160000
DTSTAMP:20260424T223941
CREATED:20221018T102932Z
LAST-MODIFIED:20221018T102932Z
UID:10000451-1678806000-1678809600@www.iwp.or.at
SUMMARY:Redaktionssitzung
DESCRIPTION:
URL:https://www.iwp.or.at/event/redaktionssitzung-9/
LOCATION:Industriellenvereinigung\, Schwarzenbergplatz 4\, Wien\, 1030
ORGANIZER;CN="iwp":MAILTO:office(at)iwp.or.at
END:VEVENT
BEGIN:VEVENT
DTSTART;TZID=Europe/Berlin:20230214T160000
DTEND;TZID=Europe/Berlin:20230214T190000
DTSTAMP:20260424T223941
CREATED:20221018T104214Z
LAST-MODIFIED:20221018T104214Z
UID:10000359-1676390400-1676401200@www.iwp.or.at
SUMMARY:Vorstandssitzung
DESCRIPTION:
URL:https://www.iwp.or.at/event/vorstandssitzung-20/
LOCATION:Industriellenvereinigung\, Schwarzenbergplatz 4\, Wien\, 1030
ORGANIZER;CN="iwp":MAILTO:office(at)iwp.or.at
END:VEVENT
BEGIN:VEVENT
DTSTART;TZID=Europe/Berlin:20230110T160000
DTEND;TZID=Europe/Berlin:20230110T190000
DTSTAMP:20260424T223941
CREATED:20221018T104126Z
LAST-MODIFIED:20221018T104126Z
UID:10000457-1673366400-1673377200@www.iwp.or.at
SUMMARY:Vorstandssitzung
DESCRIPTION:
URL:https://www.iwp.or.at/event/vorstandssitzung-19/
LOCATION:Industriellenvereinigung\, Schwarzenbergplatz 4\, Wien\, 1030
ORGANIZER;CN="iwp":MAILTO:office(at)iwp.or.at
END:VEVENT
BEGIN:VEVENT
DTSTART;TZID=Europe/Berlin:20230110T150000
DTEND;TZID=Europe/Berlin:20230110T160000
DTSTAMP:20260424T223941
CREATED:20221018T102840Z
LAST-MODIFIED:20221018T102840Z
UID:10000450-1673362800-1673366400@www.iwp.or.at
SUMMARY:Redaktionssitzung
DESCRIPTION:
URL:https://www.iwp.or.at/event/redaktionssitzung-8/
LOCATION:Industriellenvereinigung\, Schwarzenbergplatz 4\, Wien\, 1030
ORGANIZER;CN="iwp":MAILTO:office(at)iwp.or.at
END:VEVENT
BEGIN:VEVENT
DTSTART;TZID=Europe/Berlin:20221129T160000
DTEND;TZID=Europe/Berlin:20221129T190000
DTSTAMP:20260424T223941
CREATED:20211029T103957Z
LAST-MODIFIED:20211103T090807Z
UID:10000435-1669737600-1669748400@www.iwp.or.at
SUMMARY:Vorstandssitzung
DESCRIPTION:
URL:https://www.iwp.or.at/event/vorstandssitzung-18/
LOCATION:Industriellenvereinigung\, Schwarzenbergplatz 4\, Wien\, 1030
ORGANIZER;CN="iwp":MAILTO:office(at)iwp.or.at
END:VEVENT
BEGIN:VEVENT
DTSTART;TZID=Europe/Berlin:20221004T160000
DTEND;TZID=Europe/Berlin:20221004T190000
DTSTAMP:20260424T223941
CREATED:20211029T103923Z
LAST-MODIFIED:20211103T090802Z
UID:10000434-1664899200-1664910000@www.iwp.or.at
SUMMARY:Vorstandssitzung
DESCRIPTION:
URL:https://www.iwp.or.at/event/vorstandssitzung-17/
LOCATION:Industriellenvereinigung\, Schwarzenbergplatz 4\, Wien\, 1030
ORGANIZER;CN="iwp":MAILTO:office(at)iwp.or.at
END:VEVENT
BEGIN:VEVENT
DTSTART;TZID=Europe/Berlin:20220906T160000
DTEND;TZID=Europe/Berlin:20220906T190000
DTSTAMP:20260424T223941
CREATED:20211029T103845Z
LAST-MODIFIED:20211103T090756Z
UID:10000433-1662480000-1662490800@www.iwp.or.at
SUMMARY:Vorstandssitzung
DESCRIPTION:
URL:https://www.iwp.or.at/event/vorstandssitzung-16/
LOCATION:Industriellenvereinigung\, Schwarzenbergplatz 4\, Wien\, 1030
ORGANIZER;CN="iwp":MAILTO:office(at)iwp.or.at
END:VEVENT
BEGIN:VEVENT
DTSTART;TZID=Europe/Berlin:20220906T150000
DTEND;TZID=Europe/Berlin:20220906T160000
DTSTAMP:20260424T223941
CREATED:20211029T103808Z
LAST-MODIFIED:20211103T090637Z
UID:10000432-1662476400-1662480000@www.iwp.or.at
SUMMARY:Redaktionssitzung
DESCRIPTION:
URL:https://www.iwp.or.at/event/redaktionssitzung-7/
LOCATION:Industriellenvereinigung\, Schwarzenbergplatz 4\, Wien\, 1030
ORGANIZER;CN="iwp":MAILTO:office(at)iwp.or.at
END:VEVENT
BEGIN:VEVENT
DTSTART;TZID=Europe/Berlin:20220621T150000
DTEND;TZID=Europe/Berlin:20220621T200000
DTSTAMP:20260424T223941
CREATED:20211029T103725Z
LAST-MODIFIED:20211103T090748Z
UID:10000431-1655823600-1655841600@www.iwp.or.at
SUMMARY:Strategiesitzung/Vorstandssitzung 2
DESCRIPTION:
URL:https://www.iwp.or.at/event/strategiesitzung-vorstandssitzung-2/
LOCATION:Industriellenvereinigung\, Schwarzenbergplatz 4\, Wien\, 1030
ORGANIZER;CN="iwp":MAILTO:office(at)iwp.or.at
END:VEVENT
BEGIN:VEVENT
DTSTART;TZID=Europe/Berlin:20220607T150000
DTEND;TZID=Europe/Berlin:20220607T160000
DTSTAMP:20260424T223941
CREATED:20211029T103605Z
LAST-MODIFIED:20211103T090630Z
UID:10000429-1654614000-1654617600@www.iwp.or.at
SUMMARY:Redaktionssitzung
DESCRIPTION:
URL:https://www.iwp.or.at/event/redaktionssitzung-6/
LOCATION:Industriellenvereinigung\, Schwarzenbergplatz 4\, Wien\, 1030
ORGANIZER;CN="iwp":MAILTO:office(at)iwp.or.at
END:VEVENT
BEGIN:VEVENT
DTSTART;TZID=Europe/Berlin:20220503T150000
DTEND;TZID=Europe/Berlin:20220503T200000
DTSTAMP:20260424T223941
CREATED:20211029T103519Z
LAST-MODIFIED:20211103T090733Z
UID:10000348-1651590000-1651608000@www.iwp.or.at
SUMMARY:Strategiesitzung/Vorstandssitzung 1
DESCRIPTION:
URL:https://www.iwp.or.at/event/strategiesitzung-vorstandssitzung-1/
LOCATION:Industriellenvereinigung\, Schwarzenbergplatz 4\, Wien\, 1030
ORGANIZER;CN="iwp":MAILTO:office(at)iwp.or.at
END:VEVENT
BEGIN:VEVENT
DTSTART;TZID=Europe/Berlin:20220329T150000
DTEND;TZID=Europe/Berlin:20220329T180000
DTSTAMP:20260424T223941
CREATED:20211029T103344Z
LAST-MODIFIED:20220511T210314Z
UID:10000346-1648566000-1648576800@www.iwp.or.at
SUMMARY:Sondersitzung Fachtagung
DESCRIPTION:
URL:https://www.iwp.or.at/event/sondersitzung-fachtagung-2/
LOCATION:Industriellenvereinigung\, Schwarzenbergplatz 4\, Wien\, 1030
ORGANIZER;CN="iwp":MAILTO:office(at)iwp.or.at
END:VEVENT
BEGIN:VEVENT
DTSTART;TZID=Europe/Berlin:20220315T150000
DTEND;TZID=Europe/Berlin:20220315T160000
DTSTAMP:20260424T223941
CREATED:20211029T103211Z
LAST-MODIFIED:20211103T090619Z
UID:10000342-1647356400-1647360000@www.iwp.or.at
SUMMARY:Redaktionssitzung
DESCRIPTION:
URL:https://www.iwp.or.at/event/redaktionssitzung-5/
LOCATION:Industriellenvereinigung\, Schwarzenbergplatz 4\, Wien\, 1030
ORGANIZER;CN="iwp":MAILTO:office(at)iwp.or.at
END:VEVENT
BEGIN:VEVENT
DTSTART;TZID=Europe/Berlin:20220215T160000
DTEND;TZID=Europe/Berlin:20220215T190000
DTSTAMP:20260424T223941
CREATED:20211029T103055Z
LAST-MODIFIED:20211103T090713Z
UID:10000340-1644940800-1644951600@www.iwp.or.at
SUMMARY:Vorstandssitzung
DESCRIPTION:
URL:https://www.iwp.or.at/event/vorstandssitzung-13/
LOCATION:Industriellenvereinigung\, Schwarzenbergplatz 4\, Wien\, 1030
ORGANIZER;CN="iwp":MAILTO:office(at)iwp.or.at
END:VEVENT
BEGIN:VEVENT
DTSTART;TZID=Europe/Berlin:20220112T160000
DTEND;TZID=Europe/Berlin:20220112T190000
DTSTAMP:20260424T223941
CREATED:20211029T102948Z
LAST-MODIFIED:20211103T090702Z
UID:10000339-1642003200-1642014000@www.iwp.or.at
SUMMARY:Vorstandssitzung
DESCRIPTION:
URL:https://www.iwp.or.at/event/vorstandssitzung-12/
LOCATION:Industriellenvereinigung\, Schwarzenbergplatz 4\, Wien\, 1030
ORGANIZER;CN="iwp":MAILTO:office(at)iwp.or.at
END:VEVENT
BEGIN:VEVENT
DTSTART;TZID=Europe/Berlin:20220112T150000
DTEND;TZID=Europe/Berlin:20220112T160000
DTSTAMP:20260424T223941
CREATED:20211029T102838Z
LAST-MODIFIED:20211103T090606Z
UID:10000337-1641999600-1642003200@www.iwp.or.at
SUMMARY:Redaktionssitzung
DESCRIPTION:
URL:https://www.iwp.or.at/event/redaktionssitzung-3/
LOCATION:Industriellenvereinigung\, Schwarzenbergplatz 4\, Wien\, 1030
ORGANIZER;CN="iwp":MAILTO:office(at)iwp.or.at
END:VEVENT
BEGIN:VEVENT
DTSTART;TZID=Europe/Berlin:20210907T160000
DTEND;TZID=Europe/Berlin:20210907T190000
DTSTAMP:20260424T223941
CREATED:20210910T205026Z
LAST-MODIFIED:20210918T085007Z
UID:10000412-1631030400-1631041200@www.iwp.or.at
SUMMARY:Vorstandssitzung
DESCRIPTION:
URL:https://www.iwp.or.at/event/vorstandssitzung-11/
LOCATION:Industriellenvereinigung\, Schwarzenbergplatz 4\, Wien\, 1030
CATEGORIES:Vorstand
ORGANIZER;CN="iwp":MAILTO:office(at)iwp.or.at
END:VEVENT
BEGIN:VEVENT
DTSTART;TZID=Europe/Berlin:20210907T150000
DTEND;TZID=Europe/Berlin:20210907T160000
DTSTAMP:20260424T223941
CREATED:20201104T095355Z
LAST-MODIFIED:20210918T085007Z
UID:10000382-1631026800-1631030400@www.iwp.or.at
SUMMARY:Redaktionssitzung
DESCRIPTION:
URL:https://www.iwp.or.at/event/redaktions-vorstandssitzung-6/
LOCATION:Industriellenvereinigung\, Schwarzenbergplatz 4\, Wien\, 1030
CATEGORIES:Vorstand
ORGANIZER;CN="iwp":MAILTO:office(at)iwp.or.at
END:VEVENT
BEGIN:VEVENT
DTSTART;TZID=Europe/Berlin:20210609T150000
DTEND;TZID=Europe/Berlin:20210609T150000
DTSTAMP:20260424T223941
CREATED:20201104T095305Z
LAST-MODIFIED:20210918T085007Z
UID:10000381-1623250800-1623250800@www.iwp.or.at
SUMMARY:Redaktions-/Vorstandssitzung
DESCRIPTION:
URL:https://www.iwp.or.at/event/redaktions-vorstandssitzung-5/
LOCATION:Industriellenvereinigung\, Schwarzenbergplatz 4\, Wien\, 1030
CATEGORIES:Vorstand
ORGANIZER;CN="iwp":MAILTO:office(at)iwp.or.at
END:VEVENT
BEGIN:VEVENT
DTSTART;TZID=Europe/Berlin:20201201T160000
DTEND;TZID=Europe/Berlin:20201201T190000
DTSTAMP:20260424T223941
CREATED:20191126T135444Z
LAST-MODIFIED:20210918T085007Z
UID:10000252-1606838400-1606849200@www.iwp.or.at
SUMMARY:Vorstandssitzung
DESCRIPTION:154. Vorstandssitzung
URL:https://www.iwp.or.at/event/vorstandssitzung-8/
LOCATION:Industriellenvereinigung\, Schwarzenbergplatz 4\, Wien\, 1030
CATEGORIES:Vorstand
ORGANIZER;CN="iwp":MAILTO:office(at)iwp.or.at
END:VEVENT
END:VCALENDAR