BEGIN:VCALENDAR
VERSION:2.0
PRODID:-//Institut Österreichischer Wirtschaftsprüfer - ECPv6.15.15//NONSGML v1.0//EN
CALSCALE:GREGORIAN
METHOD:PUBLISH
X-ORIGINAL-URL:https://www.iwp.or.at
X-WR-CALDESC:Veranstaltungen für Institut Österreichischer Wirtschaftsprüfer
REFRESH-INTERVAL;VALUE=DURATION:PT1H
X-Robots-Tag:noindex
X-PUBLISHED-TTL:PT1H
BEGIN:VTIMEZONE
TZID:Europe/Berlin
BEGIN:DAYLIGHT
TZOFFSETFROM:+0100
TZOFFSETTO:+0200
TZNAME:CEST
DTSTART:20200329T010000
END:DAYLIGHT
BEGIN:STANDARD
TZOFFSETFROM:+0200
TZOFFSETTO:+0100
TZNAME:CET
DTSTART:20201025T010000
END:STANDARD
BEGIN:DAYLIGHT
TZOFFSETFROM:+0100
TZOFFSETTO:+0200
TZNAME:CEST
DTSTART:20210328T010000
END:DAYLIGHT
BEGIN:STANDARD
TZOFFSETFROM:+0200
TZOFFSETTO:+0100
TZNAME:CET
DTSTART:20211031T010000
END:STANDARD
BEGIN:DAYLIGHT
TZOFFSETFROM:+0100
TZOFFSETTO:+0200
TZNAME:CEST
DTSTART:20220327T010000
END:DAYLIGHT
BEGIN:STANDARD
TZOFFSETFROM:+0200
TZOFFSETTO:+0100
TZNAME:CET
DTSTART:20221030T010000
END:STANDARD
BEGIN:DAYLIGHT
TZOFFSETFROM:+0100
TZOFFSETTO:+0200
TZNAME:CEST
DTSTART:20230326T010000
END:DAYLIGHT
BEGIN:STANDARD
TZOFFSETFROM:+0200
TZOFFSETTO:+0100
TZNAME:CET
DTSTART:20231029T010000
END:STANDARD
BEGIN:DAYLIGHT
TZOFFSETFROM:+0100
TZOFFSETTO:+0200
TZNAME:CEST
DTSTART:20240331T010000
END:DAYLIGHT
BEGIN:STANDARD
TZOFFSETFROM:+0200
TZOFFSETTO:+0100
TZNAME:CET
DTSTART:20241027T010000
END:STANDARD
BEGIN:DAYLIGHT
TZOFFSETFROM:+0100
TZOFFSETTO:+0200
TZNAME:CEST
DTSTART:20250330T010000
END:DAYLIGHT
BEGIN:STANDARD
TZOFFSETFROM:+0200
TZOFFSETTO:+0100
TZNAME:CET
DTSTART:20251026T010000
END:STANDARD
END:VTIMEZONE
BEGIN:VEVENT
DTSTART;VALUE=DATE:20241121
DTEND;VALUE=DATE:20241123
DTSTAMP:20260425T001921
CREATED:20240619T105452Z
LAST-MODIFIED:20240619T105608Z
UID:10000516-1732147200-1732319999@www.iwp.or.at
SUMMARY:Bilanzrechtssymposium 2024
DESCRIPTION:Detailliertes Programm und ausschließlich elektronische Anmeldung\nab Anfang Oktober 2024
URL:https://www.iwp.or.at/event/bilanzrechtssymposium-2024/
END:VEVENT
BEGIN:VEVENT
DTSTART;VALUE=DATE:20231109
DTEND;VALUE=DATE:20231111
DTSTAMP:20260425T001921
CREATED:20230727T100006Z
LAST-MODIFIED:20230727T130033Z
UID:10000477-1699488000-1699660799@www.iwp.or.at
SUMMARY:Bilanzrechtssymposium 2023
DESCRIPTION:Detailliertes Programm und ausschließlich elektronische Anmeldung\nab Ende September 2023
URL:https://www.iwp.or.at/event/bilanzrechtssymposium-2023/
END:VEVENT
BEGIN:VEVENT
DTSTART;VALUE=DATE:20221018
DTEND;VALUE=DATE:20221020
DTSTAMP:20260425T001921
CREATED:20220630T193525Z
LAST-MODIFIED:20220630T193525Z
UID:10000351-1666051200-1666223999@www.iwp.or.at
SUMMARY:Bilanzrechtssymposium 2022
DESCRIPTION:
URL:https://www.iwp.or.at/event/bilanzrechtssymposium-2022/
END:VEVENT
BEGIN:VEVENT
DTSTART;VALUE=DATE:20211125
DTEND;VALUE=DATE:20211127
DTSTAMP:20260425T001921
CREATED:20211020T080812Z
LAST-MODIFIED:20220530T021720Z
UID:10000414-1637798400-1637971199@www.iwp.or.at
SUMMARY:Bilanzrechtssymposium 2021
DESCRIPTION:
URL:https://www.iwp.or.at/event/bilanzrechtssymposium-2021/
ATTACH;FMTTYPE=image/jpeg:https://www.iwp.or.at/wp-content/uploads/2019/02/Logo-JKU-Linz-173-hoch.jpg
END:VEVENT
END:VCALENDAR