BEGIN:VCALENDAR
VERSION:2.0
PRODID:-//Institut Österreichischer Wirtschaftsprüfer - ECPv6.15.15//NONSGML v1.0//EN
CALSCALE:GREGORIAN
METHOD:PUBLISH
X-ORIGINAL-URL:https://www.iwp.or.at
X-WR-CALDESC:Veranstaltungen für Institut Österreichischer Wirtschaftsprüfer
REFRESH-INTERVAL;VALUE=DURATION:PT1H
X-Robots-Tag:noindex
X-PUBLISHED-TTL:PT1H
BEGIN:VTIMEZONE
TZID:Europe/Berlin
BEGIN:DAYLIGHT
TZOFFSETFROM:+0100
TZOFFSETTO:+0200
TZNAME:CEST
DTSTART:20180325T010000
END:DAYLIGHT
BEGIN:STANDARD
TZOFFSETFROM:+0200
TZOFFSETTO:+0100
TZNAME:CET
DTSTART:20181028T010000
END:STANDARD
BEGIN:DAYLIGHT
TZOFFSETFROM:+0100
TZOFFSETTO:+0200
TZNAME:CEST
DTSTART:20190331T010000
END:DAYLIGHT
BEGIN:STANDARD
TZOFFSETFROM:+0200
TZOFFSETTO:+0100
TZNAME:CET
DTSTART:20191027T010000
END:STANDARD
BEGIN:DAYLIGHT
TZOFFSETFROM:+0100
TZOFFSETTO:+0200
TZNAME:CEST
DTSTART:20200329T010000
END:DAYLIGHT
BEGIN:STANDARD
TZOFFSETFROM:+0200
TZOFFSETTO:+0100
TZNAME:CET
DTSTART:20201025T010000
END:STANDARD
END:VTIMEZONE
BEGIN:VEVENT
DTSTART;TZID=Europe/Berlin:20190521T170000
DTEND;TZID=Europe/Berlin:20190521T190000
DTSTAMP:20260425T173834
CREATED:20190430T210257Z
LAST-MODIFIED:20210918T085007Z
UID:10000287-1558458000-1558465200@www.iwp.or.at
SUMMARY:2. "WP 2025 - Roadshow"  Salzburg
DESCRIPTION:
URL:https://www.iwp.or.at/event/2-wp-2025-roadshow-salzburg/
CATEGORIES:Vortrag
ORGANIZER;CN="iwp":MAILTO:office(at)iwp.or.at
END:VEVENT
BEGIN:VEVENT
DTSTART;TZID=Europe/Berlin:20190520T180000
DTEND;TZID=Europe/Berlin:20190520T210000
DTSTAMP:20260425T173834
CREATED:20190213T175658Z
LAST-MODIFIED:20210918T085008Z
UID:10000261-1558375200-1558386000@www.iwp.or.at
SUMMARY:2. Young Professionals Day 2019
DESCRIPTION:2. Young Professional\n\n  \n  \n  \n 
URL:https://www.iwp.or.at/event/young-professionals-day-2019/
LOCATION:TUtheSky\, Getreidemarkt 9 11. OG\, Wien\, 1060
CATEGORIES:Young Professionals
ORGANIZER;CN="iwp":MAILTO:office(at)iwp.or.at
END:VEVENT
BEGIN:VEVENT
DTSTART;TZID=Europe/Berlin:20190514T150000
DTEND;TZID=Europe/Berlin:20190514T200000
DTSTAMP:20260425T173834
CREATED:20190213T172434Z
LAST-MODIFIED:20210918T085006Z
UID:10000242-1557846000-1557864000@www.iwp.or.at
SUMMARY:Vorstandsklausur 2020
DESCRIPTION:
URL:https://www.iwp.or.at/event/vorstandsklausur-2020/
LOCATION:Hotel de France\, Schottenring 3\, Wien\, 1010
CATEGORIES:Vorstand
ORGANIZER;CN="iwp":MAILTO:office(at)iwp.or.at
END:VEVENT
BEGIN:VEVENT
DTSTART;TZID=Europe/Berlin:20190514T083000
DTEND;TZID=Europe/Berlin:20190514T103000
DTSTAMP:20260425T173834
CREATED:20190430T210042Z
LAST-MODIFIED:20210918T085007Z
UID:10000286-1557822600-1557829800@www.iwp.or.at
SUMMARY:1. "WP 2025 - Roadshow"  Wien
DESCRIPTION:
URL:https://www.iwp.or.at/event/wp-2025-roadshow-wien/
CATEGORIES:Vortrag
ORGANIZER;CN="iwp":MAILTO:office(at)iwp.or.at
END:VEVENT
BEGIN:VEVENT
DTSTART;TZID=Europe/Berlin:20190425T170000
DTEND;TZID=Europe/Berlin:20190425T180000
DTSTAMP:20260425T173834
CREATED:20190213T170558Z
LAST-MODIFIED:20211203T165543Z
UID:10000240-1556211600-1556215200@www.iwp.or.at
SUMMARY:67. iwp-Mitgliederversammlung
DESCRIPTION:
URL:https://www.iwp.or.at/event/67-mitgliederversammlung-2/
CATEGORIES:Mitgliederversammlung
ORGANIZER;CN="iwp":MAILTO:office(at)iwp.or.at
END:VEVENT
BEGIN:VEVENT
DTSTART;TZID=Europe/Berlin:20190328T150000
DTEND;TZID=Europe/Berlin:20190328T180000
DTSTAMP:20260425T173834
CREATED:20190218T141742Z
LAST-MODIFIED:20210918T085006Z
UID:10000269-1553785200-1553796000@www.iwp.or.at
SUMMARY:Sondersitzung Fachtagung 2019
DESCRIPTION:
URL:https://www.iwp.or.at/event/sondersitzung-fachtagung-2019/
LOCATION:Industriellenvereinigung\, Schwarzenbergplatz 4\, Wien\, 1030
CATEGORIES:Vorstand
ATTACH;FMTTYPE=image/jpeg:https://www.iwp.or.at/wp-content/uploads/2019/01/Kerschbaumer-1-1.jpg
ORGANIZER;CN="iwp":MAILTO:office(at)iwp.or.at
END:VEVENT
END:VCALENDAR