BEGIN:VCALENDAR
VERSION:2.0
PRODID:-//Institut Österreichischer Wirtschaftsprüfer - ECPv6.15.15//NONSGML v1.0//EN
CALSCALE:GREGORIAN
METHOD:PUBLISH
X-ORIGINAL-URL:https://www.iwp.or.at
X-WR-CALDESC:Veranstaltungen für Institut Österreichischer Wirtschaftsprüfer
REFRESH-INTERVAL;VALUE=DURATION:PT1H
X-Robots-Tag:noindex
X-PUBLISHED-TTL:PT1H
BEGIN:VTIMEZONE
TZID:Europe/Berlin
BEGIN:DAYLIGHT
TZOFFSETFROM:+0100
TZOFFSETTO:+0200
TZNAME:CEST
DTSTART:20180325T010000
END:DAYLIGHT
BEGIN:STANDARD
TZOFFSETFROM:+0200
TZOFFSETTO:+0100
TZNAME:CET
DTSTART:20181028T010000
END:STANDARD
BEGIN:DAYLIGHT
TZOFFSETFROM:+0100
TZOFFSETTO:+0200
TZNAME:CEST
DTSTART:20190331T010000
END:DAYLIGHT
BEGIN:STANDARD
TZOFFSETFROM:+0200
TZOFFSETTO:+0100
TZNAME:CET
DTSTART:20191027T010000
END:STANDARD
BEGIN:DAYLIGHT
TZOFFSETFROM:+0100
TZOFFSETTO:+0200
TZNAME:CEST
DTSTART:20200329T010000
END:DAYLIGHT
BEGIN:STANDARD
TZOFFSETFROM:+0200
TZOFFSETTO:+0100
TZNAME:CET
DTSTART:20201025T010000
END:STANDARD
END:VTIMEZONE
BEGIN:VEVENT
DTSTART;VALUE=DATE:20190430
DTEND;VALUE=DATE:20190501
DTSTAMP:20260424T230816
CREATED:20190227T152825Z
LAST-MODIFIED:20210918T085003Z
UID:10000274-1556582400-1556668799@www.iwp.or.at
SUMMARY:Transparenzbericht 2018 | Abschluss per 31.12.2018
DESCRIPTION:PIE Prüfer\, deren Abschlussstichtag der 31.12.2018 ist\, haben den Transparenzbericht bis 30.4.2019 auf ihrer Homepage zu veröffentlichen und eine Meldung der Veröffentlichung per E-Mail an die APAB zu übermittlen. Transparenzberichte müssen 5 Jahre auf der Homepage veröffentlich bleiben.
URL:https://www.iwp.or.at/event/tranparenzbericht-2018-abschluss-per-31-12-2018/
CATEGORIES:APAB Meldungen
END:VEVENT
BEGIN:VEVENT
DTSTART;VALUE=DATE:20190430
DTEND;VALUE=DATE:20190501
DTSTAMP:20260424T230816
CREATED:20190227T152439Z
LAST-MODIFIED:20210918T085002Z
UID:10000273-1556582400-1556668799@www.iwp.or.at
SUMMARY:APAB Meldung | § 45 Abs. 3 APAG iVm Art. 14 VO (EU) Nr. 537/2014 | Abschluss per 31.12.2018
DESCRIPTION:Beachten Sie in diesem Zusammenhang das APAB-Rundschreiben 01/2017
URL:https://www.iwp.or.at/event/apab-meldung-%c2%a7-45-abs-3-apag-ivm-art-14-vo-eu-nr-537-2014-abschluss-per-31-12-2018/
CATEGORIES:APAB Meldungen
END:VEVENT
BEGIN:VEVENT
DTSTART;VALUE=DATE:20190331
DTEND;VALUE=DATE:20190401
DTSTAMP:20260424T230816
CREATED:20190227T154727Z
LAST-MODIFIED:20230104T065052Z
UID:10000275-1553990400-1554076799@www.iwp.or.at
SUMMARY:APAB Fortbildungsmeldung | § 56 APAG
DESCRIPTION:
URL:https://www.iwp.or.at/event/apab-fortbildungsmeldung-%c2%a7-56-apag/
CATEGORIES:APAB Meldungen
END:VEVENT
BEGIN:VEVENT
DTSTART;VALUE=DATE:20190131
DTEND;VALUE=DATE:20190201
DTSTAMP:20260424T230816
CREATED:20190227T152118Z
LAST-MODIFIED:20230104T064913Z
UID:10000272-1548892800-1548979199@www.iwp.or.at
SUMMARY:APAB Umsatzmeldung | § 21 Abs. 11 APAG
DESCRIPTION:
URL:https://www.iwp.or.at/event/apab-umsatzmeldung-gemaess-%c2%a7-21-abs-11-apag/
CATEGORIES:APAB Meldungen
END:VEVENT
END:VCALENDAR