BEGIN:VCALENDAR
VERSION:2.0
PRODID:-//Institut Österreichischer Wirtschaftsprüfer - ECPv6.15.15//NONSGML v1.0//EN
CALSCALE:GREGORIAN
METHOD:PUBLISH
X-ORIGINAL-URL:https://www.iwp.or.at
X-WR-CALDESC:Veranstaltungen für Institut Österreichischer Wirtschaftsprüfer
REFRESH-INTERVAL;VALUE=DURATION:PT1H
X-Robots-Tag:noindex
X-PUBLISHED-TTL:PT1H
BEGIN:VTIMEZONE
TZID:Europe/Berlin
BEGIN:DAYLIGHT
TZOFFSETFROM:+0100
TZOFFSETTO:+0200
TZNAME:CEST
DTSTART:20210328T010000
END:DAYLIGHT
BEGIN:STANDARD
TZOFFSETFROM:+0200
TZOFFSETTO:+0100
TZNAME:CET
DTSTART:20211031T010000
END:STANDARD
BEGIN:DAYLIGHT
TZOFFSETFROM:+0100
TZOFFSETTO:+0200
TZNAME:CEST
DTSTART:20220327T010000
END:DAYLIGHT
BEGIN:STANDARD
TZOFFSETFROM:+0200
TZOFFSETTO:+0100
TZNAME:CET
DTSTART:20221030T010000
END:STANDARD
BEGIN:DAYLIGHT
TZOFFSETFROM:+0100
TZOFFSETTO:+0200
TZNAME:CEST
DTSTART:20230326T010000
END:DAYLIGHT
BEGIN:STANDARD
TZOFFSETFROM:+0200
TZOFFSETTO:+0100
TZNAME:CET
DTSTART:20231029T010000
END:STANDARD
END:VTIMEZONE
BEGIN:VEVENT
DTSTART;TZID=Europe/Berlin:20220622T140000
DTEND;TZID=Europe/Berlin:20220622T180000
DTSTAMP:20260425T035319
CREATED:20220615T175301Z
LAST-MODIFIED:20220615T180646Z
UID:10000349-1655906400-1655920800@www.iwp.or.at
SUMMARY:EFRAG-Outreach Event zu den Entwürfen der ESRS
DESCRIPTION:ANMELDUNG
URL:https://www.iwp.or.at/event/efrag-outreach-event-zu-den-entwuerfen-der-esrs/
LOCATION:Online Veranstaltung
END:VEVENT
END:VCALENDAR