BEGIN:VCALENDAR
VERSION:2.0
PRODID:-//Institut Österreichischer Wirtschaftsprüfer - ECPv6.15.15//NONSGML v1.0//EN
CALSCALE:GREGORIAN
METHOD:PUBLISH
X-ORIGINAL-URL:https://www.iwp.or.at
X-WR-CALDESC:Veranstaltungen für Institut Österreichischer Wirtschaftsprüfer
REFRESH-INTERVAL;VALUE=DURATION:PT1H
X-Robots-Tag:noindex
X-PUBLISHED-TTL:PT1H
BEGIN:VTIMEZONE
TZID:Europe/Berlin
BEGIN:DAYLIGHT
TZOFFSETFROM:+0100
TZOFFSETTO:+0200
TZNAME:CEST
DTSTART:20230326T010000
END:DAYLIGHT
BEGIN:STANDARD
TZOFFSETFROM:+0200
TZOFFSETTO:+0100
TZNAME:CET
DTSTART:20231029T010000
END:STANDARD
BEGIN:DAYLIGHT
TZOFFSETFROM:+0100
TZOFFSETTO:+0200
TZNAME:CEST
DTSTART:20240331T010000
END:DAYLIGHT
BEGIN:STANDARD
TZOFFSETFROM:+0200
TZOFFSETTO:+0100
TZNAME:CET
DTSTART:20241027T010000
END:STANDARD
BEGIN:DAYLIGHT
TZOFFSETFROM:+0100
TZOFFSETTO:+0200
TZNAME:CEST
DTSTART:20250330T010000
END:DAYLIGHT
BEGIN:STANDARD
TZOFFSETFROM:+0200
TZOFFSETTO:+0100
TZNAME:CET
DTSTART:20251026T010000
END:STANDARD
END:VTIMEZONE
BEGIN:VEVENT
DTSTART;VALUE=DATE:20241101
DTEND;VALUE=DATE:20241102
DTSTAMP:20260425T175317
CREATED:20231107T123650Z
LAST-MODIFIED:20231107T123650Z
UID:10000489-1730419200-1730505599@www.iwp.or.at
SUMMARY:Allerheiligen
DESCRIPTION:
URL:https://www.iwp.or.at/event/allerheiligen-6/
END:VEVENT
BEGIN:VEVENT
DTSTART;TZID=Europe/Berlin:20241112T170000
DTEND;TZID=Europe/Berlin:20241112T183000
DTSTAMP:20260425T175317
CREATED:20231114T122347Z
LAST-MODIFIED:20241001T070255Z
UID:10000510-1731430800-1731436200@www.iwp.or.at
SUMMARY:iwp-Road Show
DESCRIPTION:
URL:https://www.iwp.or.at/event/10-young-professionals-day/
LOCATION:Deloitte Kanzlei\, Renngasse 1/Freyung\, Wien\, Wien\, 1013\, Österreich
ORGANIZER;CN="iwp":MAILTO:office(at)iwp.or.at
END:VEVENT
BEGIN:VEVENT
DTSTART;VALUE=DATE:20241121
DTEND;VALUE=DATE:20241123
DTSTAMP:20260425T175317
CREATED:20240619T105452Z
LAST-MODIFIED:20240619T105608Z
UID:10000516-1732147200-1732319999@www.iwp.or.at
SUMMARY:Bilanzrechtssymposium 2024
DESCRIPTION:Detailliertes Programm und ausschließlich elektronische Anmeldung\nab Anfang Oktober 2024
URL:https://www.iwp.or.at/event/bilanzrechtssymposium-2024/
END:VEVENT
BEGIN:VEVENT
DTSTART;TZID=Europe/Berlin:20241126T150000
DTEND;TZID=Europe/Berlin:20241126T180000
DTSTAMP:20260425T175317
CREATED:20231114T121630Z
LAST-MODIFIED:20241001T064052Z
UID:10000503-1732633200-1732644000@www.iwp.or.at
SUMMARY:Vorstandssitzung
DESCRIPTION:
URL:https://www.iwp.or.at/event/vorstandssitzung-34/
LOCATION:Industriellenvereinigung\, Schwarzenbergplatz 4\, Wien\, 1030
ORGANIZER;CN="iwp":MAILTO:office(at)iwp.or.at
END:VEVENT
BEGIN:VEVENT
DTSTART;TZID=Europe/Berlin:20241126T183000
DTEND;TZID=Europe/Berlin:20241126T203000
DTSTAMP:20260425T175317
CREATED:20241001T064007Z
LAST-MODIFIED:20241001T064007Z
UID:10000517-1732645800-1732653000@www.iwp.or.at
SUMMARY:25. ASRA Preisverleihung 2024
DESCRIPTION:
URL:https://www.iwp.or.at/event/25-asra-preisverleihung-2024/
LOCATION:Wirtschaftsuniversität\, Welthandelsplatz 1\, Wien\, 1020
ORGANIZER;CN="KSW":MAILTO:office(at)ksw.or.at
END:VEVENT
END:VCALENDAR