BEGIN:VCALENDAR
VERSION:2.0
PRODID:-//Institut Österreichischer Wirtschaftsprüfer - ECPv6.15.15//NONSGML v1.0//EN
CALSCALE:GREGORIAN
METHOD:PUBLISH
X-ORIGINAL-URL:https://www.iwp.or.at
X-WR-CALDESC:Veranstaltungen für Institut Österreichischer Wirtschaftsprüfer
REFRESH-INTERVAL;VALUE=DURATION:PT1H
X-Robots-Tag:noindex
X-PUBLISHED-TTL:PT1H
BEGIN:VTIMEZONE
TZID:Europe/Berlin
BEGIN:DAYLIGHT
TZOFFSETFROM:+0100
TZOFFSETTO:+0200
TZNAME:CEST
DTSTART:20250330T010000
END:DAYLIGHT
BEGIN:STANDARD
TZOFFSETFROM:+0200
TZOFFSETTO:+0100
TZNAME:CET
DTSTART:20251026T010000
END:STANDARD
BEGIN:DAYLIGHT
TZOFFSETFROM:+0100
TZOFFSETTO:+0200
TZNAME:CEST
DTSTART:20260329T010000
END:DAYLIGHT
BEGIN:STANDARD
TZOFFSETFROM:+0200
TZOFFSETTO:+0100
TZNAME:CET
DTSTART:20261025T010000
END:STANDARD
BEGIN:DAYLIGHT
TZOFFSETFROM:+0100
TZOFFSETTO:+0200
TZNAME:CEST
DTSTART:20270328T010000
END:DAYLIGHT
BEGIN:STANDARD
TZOFFSETFROM:+0200
TZOFFSETTO:+0100
TZNAME:CET
DTSTART:20271031T010000
END:STANDARD
END:VTIMEZONE
BEGIN:VEVENT
DTSTART;TZID=Europe/Berlin:20260601T160000
DTEND;TZID=Europe/Berlin:20260601T160000
DTSTAMP:20260424T155927
CREATED:20251009T115524Z
LAST-MODIFIED:20251009T115647Z
UID:10000533-1780329600-1780329600@www.iwp.or.at
SUMMARY:28. iwp-Stammtisch Audit
DESCRIPTION:
URL:https://www.iwp.or.at/event/28-iwp-stammtisch-audit/
LOCATION:Online Veranstaltung
CATEGORIES:iwp Stammtisch Audit
ATTACH;FMTTYPE=image/jpeg:https://www.iwp.or.at/wp-content/uploads/Stammtisch-Blogbeitragsbild.jpg
ORGANIZER;CN="iwp":MAILTO:office(at)iwp.or.at
END:VEVENT
BEGIN:VEVENT
DTSTART;TZID=Europe/Berlin:20260608T180000
DTEND;TZID=Europe/Berlin:20260608T200000
DTSTAMP:20260424T155927
CREATED:20260423T070101Z
LAST-MODIFIED:20260423T070101Z
UID:10000538-1780941600-1780948800@www.iwp.or.at
SUMMARY:KSW_iwp YP-Abend
DESCRIPTION:
URL:https://www.iwp.or.at/event/ksw_iwp-yp-abend/
LOCATION:Generali Arena Wien
ORGANIZER;CN="iwp":MAILTO:office(at)iwp.or.at
END:VEVENT
BEGIN:VEVENT
DTSTART;TZID=Europe/Berlin:20260619T090000
DTEND;TZID=Europe/Berlin:20260619T160000
DTSTAMP:20260424T155927
CREATED:20251009T112119Z
LAST-MODIFIED:20251113T084830Z
UID:10000531-1781859600-1781884800@www.iwp.or.at
SUMMARY:5. iwp-Digi Day
DESCRIPTION:
URL:https://www.iwp.or.at/event/5-iwp-digi-day/
LOCATION:Zoom Meeting\, Wien
CATEGORIES:Aus- und Fortbildung
ORGANIZER;CN="iwp":MAILTO:office(at)iwp.or.at
END:VEVENT
BEGIN:VEVENT
DTSTART;TZID=Europe/Berlin:20260907T160000
DTEND;TZID=Europe/Berlin:20260907T160000
DTSTAMP:20260424T155927
CREATED:20251009T115837Z
LAST-MODIFIED:20251009T115848Z
UID:10000534-1788796800-1788796800@www.iwp.or.at
SUMMARY:29. iwp-Stammtisch Audit
DESCRIPTION:
URL:https://www.iwp.or.at/event/29-iwp-stammtisch-audit/
LOCATION:Online Veranstaltung
CATEGORIES:iwp Stammtisch Audit
ATTACH;FMTTYPE=image/jpeg:https://www.iwp.or.at/wp-content/uploads/Stammtisch-Blogbeitragsbild.jpg
ORGANIZER;CN="iwp":MAILTO:office(at)iwp.or.at
END:VEVENT
BEGIN:VEVENT
DTSTART;VALUE=DATE:20261016
DTEND;VALUE=DATE:20261018
DTSTAMP:20260424T155927
CREATED:20251009T111928Z
LAST-MODIFIED:20251009T111928Z
UID:10000530-1792108800-1792281599@www.iwp.or.at
SUMMARY:43. iwp-Fachtagung 2026
DESCRIPTION:
URL:https://www.iwp.or.at/event/43-iwp-fachtagung-2026/
LOCATION:Double Tree By Hilton Vienna Schönbrunn\, Schlossallee 8\, Wien\, 1140
CATEGORIES:Fachtagung
ORGANIZER;CN="iwp":MAILTO:office(at)iwp.or.at
END:VEVENT
BEGIN:VEVENT
DTSTART;TZID=Europe/Berlin:20261111T170000
DTEND;TZID=Europe/Berlin:20261111T183000
DTSTAMP:20260424T155927
CREATED:20251009T120307Z
LAST-MODIFIED:20260227T085316Z
UID:10000528-1794416400-1794421800@www.iwp.or.at
SUMMARY:4. iwp-Roadshow
DESCRIPTION:
URL:https://www.iwp.or.at/event/4-iwp-roadshow/
ORGANIZER;CN="iwp":MAILTO:office(at)iwp.or.at
END:VEVENT
BEGIN:VEVENT
DTSTART;TZID=Europe/Berlin:20261130T160000
DTEND;TZID=Europe/Berlin:20261130T160000
DTSTAMP:20260424T155927
CREATED:20251009T120003Z
LAST-MODIFIED:20251113T084932Z
UID:10000535-1796054400-1796054400@www.iwp.or.at
SUMMARY:30. iwp-Stammtisch Audit
DESCRIPTION:
URL:https://www.iwp.or.at/event/30-iwp-stammtisch-audit/
LOCATION:Online Veranstaltung
CATEGORIES:iwp Stammtisch Audit
ATTACH;FMTTYPE=image/jpeg:https://www.iwp.or.at/wp-content/uploads/Stammtisch-Blogbeitragsbild.jpg
ORGANIZER;CN="iwp":MAILTO:office(at)iwp.or.at
END:VEVENT
END:VCALENDAR