BEGIN:VCALENDAR
VERSION:2.0
PRODID:-//Institut Österreichischer Wirtschaftsprüfer - ECPv6.15.15//NONSGML v1.0//EN
CALSCALE:GREGORIAN
METHOD:PUBLISH
X-WR-CALNAME:Institut Österreichischer Wirtschaftsprüfer
X-ORIGINAL-URL:https://www.iwp.or.at
X-WR-CALDESC:Veranstaltungen für Institut Österreichischer Wirtschaftsprüfer
REFRESH-INTERVAL;VALUE=DURATION:PT1H
X-Robots-Tag:noindex
X-PUBLISHED-TTL:PT1H
BEGIN:VTIMEZONE
TZID:Europe/Berlin
BEGIN:DAYLIGHT
TZOFFSETFROM:+0100
TZOFFSETTO:+0200
TZNAME:CEST
DTSTART:20250330T010000
END:DAYLIGHT
BEGIN:STANDARD
TZOFFSETFROM:+0200
TZOFFSETTO:+0100
TZNAME:CET
DTSTART:20251026T010000
END:STANDARD
BEGIN:DAYLIGHT
TZOFFSETFROM:+0100
TZOFFSETTO:+0200
TZNAME:CEST
DTSTART:20260329T010000
END:DAYLIGHT
BEGIN:STANDARD
TZOFFSETFROM:+0200
TZOFFSETTO:+0100
TZNAME:CET
DTSTART:20261025T010000
END:STANDARD
BEGIN:DAYLIGHT
TZOFFSETFROM:+0100
TZOFFSETTO:+0200
TZNAME:CEST
DTSTART:20270328T010000
END:DAYLIGHT
BEGIN:STANDARD
TZOFFSETFROM:+0200
TZOFFSETTO:+0100
TZNAME:CET
DTSTART:20271031T010000
END:STANDARD
END:VTIMEZONE
BEGIN:VEVENT
DTSTART;TZID=Europe/Berlin:20260601T160000
DTEND;TZID=Europe/Berlin:20260601T160000
DTSTAMP:20260424T172407
CREATED:20251009T115524Z
LAST-MODIFIED:20251009T115647Z
UID:10000533-1780329600-1780329600@www.iwp.or.at
SUMMARY:28. iwp-Stammtisch Audit
DESCRIPTION:
URL:https://www.iwp.or.at/event/28-iwp-stammtisch-audit/
LOCATION:Online Veranstaltung
CATEGORIES:iwp Stammtisch Audit
ATTACH;FMTTYPE=image/jpeg:https://www.iwp.or.at/wp-content/uploads/Stammtisch-Blogbeitragsbild.jpg
ORGANIZER;CN="iwp":MAILTO:office(at)iwp.or.at
END:VEVENT
END:VCALENDAR